BEGIN:VCALENDAR
VERSION:2.0
PRODID:-//taunus4family - ECPv5.14.1//NONSGML v1.0//EN
CALSCALE:GREGORIAN
METHOD:PUBLISH
X-WR-CALNAME:taunus4family
X-ORIGINAL-URL:https://www.taunus4family.de
X-WR-CALDESC:Veranstaltungen für taunus4family
BEGIN:VTIMEZONE
TZID:Europe/Helsinki
BEGIN:DAYLIGHT
TZOFFSETFROM:+0200
TZOFFSETTO:+0300
TZNAME:EEST
DTSTART:20240331T010000
END:DAYLIGHT
BEGIN:STANDARD
TZOFFSETFROM:+0300
TZOFFSETTO:+0200
TZNAME:EET
DTSTART:20241027T010000
END:STANDARD
END:VTIMEZONE
BEGIN:VEVENT
DTSTART;TZID=Europe/Helsinki:20241031T000000
DTEND;TZID=Europe/Helsinki:20241104T230000
DTSTAMP:20260423T051525
CREATED:20240925T183630Z
LAST-MODIFIED:20240925T183630Z
UID:49219-1730332800-1730761200@www.taunus4family.de
SUMMARY:Kinder online Basar KiZ96 Kibaza
DESCRIPTION:Online Kinderbasar des Kinderzentrum in den Schafgärten in 60437 Frankfurt / Harheim. \nAnmeldung zum Verkauf sofort unter https://www.kibaza.de/kiz96 \nBei Fragen wendet euch gern an:\nBasar-kt96@gmx.de
URL:https://www.taunus4family.de/veranstaltung/kinder-online-basar-kiz96-kibaza/
LOCATION:Kinderzentrum in den Schafgärten\, 60437 Frankfurt\, In den Schafgärten 23\, Frankfurt\, 60437
CATEGORIES:Basare und Flohmärkte,Freizeit
ATTACH;FMTTYPE=image/jpeg:https://www.taunus4family.de/wp-content/uploads/2024/09/IMG_8070.jpeg
ORGANIZER;CN="Elternbeirat%20KiZ96":MAILTO:Basar-kt96@gmx.de
GEO:50.1857797;8.6922339
X-APPLE-STRUCTURED-LOCATION;VALUE=URI;X-ADDRESS=Kinderzentrum in den Schafgärten 60437 Frankfurt In den Schafgärten 23 Frankfurt 60437;X-APPLE-RADIUS=500;X-TITLE=In den Schafgärten 23:geo:8.6922339,50.1857797
END:VEVENT
END:VCALENDAR