BEGIN:VCALENDAR
VERSION:2.0
PRODID:-//taunus4family - ECPv5.14.1//NONSGML v1.0//EN
CALSCALE:GREGORIAN
METHOD:PUBLISH
X-WR-CALNAME:taunus4family
X-ORIGINAL-URL:https://www.taunus4family.de
X-WR-CALDESC:Veranstaltungen für taunus4family
BEGIN:VTIMEZONE
TZID:Europe/Helsinki
BEGIN:DAYLIGHT
TZOFFSETFROM:+0200
TZOFFSETTO:+0300
TZNAME:EEST
DTSTART:20250330T010000
END:DAYLIGHT
BEGIN:STANDARD
TZOFFSETFROM:+0300
TZOFFSETTO:+0200
TZNAME:EET
DTSTART:20251026T010000
END:STANDARD
END:VTIMEZONE
BEGIN:VEVENT
DTSTART;TZID=Europe/Helsinki:20250913T140000
DTEND;TZID=Europe/Helsinki:20250913T163000
DTSTAMP:20260422T081234
CREATED:20250528T164116Z
LAST-MODIFIED:20250528T164116Z
UID:51152-1757772000-1757781000@www.taunus4family.de
SUMMARY:Kinder- und Jugensachenbasar Schwalbach am Taunus
DESCRIPTION:Wo: Evangelische Friedenskirchengemeinde\, Bahnstraße 13\, 65824 Schwalbach\nWann: Samstag\, 13. September 2025\, 14:00-16:30 (für Schwangere mit Mutterpass: 11:00-12:00)\nWas: Erstlingsausstattung\, Kinderkleidung\, Jugendkleidung\, Kinderwagen\, Spielzeug\, usw. (Herbst- und Wintersachen) \nDie Vergabe von Verkaufsnummern für VerkäuferInnen ist online ab Montag\, den 18. August 2025 ab 10 Uhr möglich. Helfer können sich früher anmelden und erhalten weitere Vorteile (https://friedenskirche-schwalbach.de/kijuba). \nDie Ev. Friedenskirchengemeinde erhält 10 % und eine Bearbeitungsgebühr von 3 € vom Verkaufserlös zum Spenden für soziale Zwecke; die Kirche handelt lediglich als Vermittler.
URL:https://www.taunus4family.de/veranstaltung/kinder-und-jugensachenbasar-schwalbach-am-taunus/
LOCATION:Evangelische Friedenskirchengemeinde\, Bahnstrasse 13\, Schwalbach am Taunus\, 65824
CATEGORIES:Basare und Flohmärkte
ATTACH;FMTTYPE=image/jpeg:https://www.taunus4family.de/wp-content/uploads/2025/05/KiJuBa-2025-2.jpg
ORGANIZER;CN="Evangelische%20Friedenskirchengemeinde":MAILTO:kisaba.friedenskirche@mindthegaps.com
GEO:50.15099;8.54055
X-APPLE-STRUCTURED-LOCATION;VALUE=URI;X-ADDRESS=Evangelische Friedenskirchengemeinde Bahnstrasse 13 Schwalbach am Taunus 65824;X-APPLE-RADIUS=500;X-TITLE=Bahnstrasse 13:geo:8.54055,50.15099
END:VEVENT
END:VCALENDAR