BEGIN:VCALENDAR
VERSION:2.0
PRODID:-//taunus4family - ECPv5.14.1//NONSGML v1.0//EN
CALSCALE:GREGORIAN
METHOD:PUBLISH
X-WR-CALNAME:taunus4family
X-ORIGINAL-URL:https://www.taunus4family.de
X-WR-CALDESC:Veranstaltungen für taunus4family
BEGIN:VTIMEZONE
TZID:Europe/Helsinki
BEGIN:DAYLIGHT
TZOFFSETFROM:+0200
TZOFFSETTO:+0300
TZNAME:EEST
DTSTART:20250330T010000
END:DAYLIGHT
BEGIN:STANDARD
TZOFFSETFROM:+0300
TZOFFSETTO:+0200
TZNAME:EET
DTSTART:20251026T010000
END:STANDARD
END:VTIMEZONE
BEGIN:VEVENT
DTSTART;TZID=Europe/Helsinki:20250927T100000
DTEND;TZID=Europe/Helsinki:20250927T130000
DTSTAMP:20260423T220757
CREATED:20250828T161101Z
LAST-MODIFIED:20250828T161101Z
UID:51958-1758967200-1758978000@www.taunus4family.de
SUMMARY:Kinderbasar der Ev. Kita Frechdachs
DESCRIPTION:Am 27.09.2025 findet wieder unser beliebter Frechdachsbasar im Bürgerhaus Marxheim statt. \nNeben vielen tollen Verkaufsständen\, gibt es auch viele leckereien an unserem großen Kuchenbuffet. \nDie Einnamhmen kommen den Kindern er Ev. Kita Frechdachs zu Gute. \nWir freuen uns auf Euch!
URL:https://www.taunus4family.de/veranstaltung/kinderbasar-der-ev-kita-frechdachs/
LOCATION:Bürgerhaus Marxheim\, Hofheim\, Ahornstr.\, Hofheim\, 65719
CATEGORIES:Basare und Flohmärkte
ATTACH;FMTTYPE=image/jpeg:https://www.taunus4family.de/wp-content/uploads/2025/08/Herbstbasar25.jpg
ORGANIZER;CN="Basarteam%20der%20Ev.%20Kita%20Frechdachs":MAILTO:frechdachsbasar@gmail.com
GEO:50.0676521;8.4340327
X-APPLE-STRUCTURED-LOCATION;VALUE=URI;X-ADDRESS=Bürgerhaus Marxheim Hofheim Ahornstr. Hofheim 65719;X-APPLE-RADIUS=500;X-TITLE=Ahornstr.:geo:8.4340327,50.0676521
END:VEVENT
END:VCALENDAR