BEGIN:VCALENDAR
VERSION:2.0
PRODID:-//taunus4family - ECPv5.14.1//NONSGML v1.0//EN
CALSCALE:GREGORIAN
METHOD:PUBLISH
X-WR-CALNAME:taunus4family
X-ORIGINAL-URL:https://www.taunus4family.de
X-WR-CALDESC:Veranstaltungen für taunus4family
BEGIN:VTIMEZONE
TZID:Europe/Helsinki
BEGIN:DAYLIGHT
TZOFFSETFROM:+0200
TZOFFSETTO:+0300
TZNAME:EEST
DTSTART:20250330T010000
END:DAYLIGHT
BEGIN:STANDARD
TZOFFSETFROM:+0300
TZOFFSETTO:+0200
TZNAME:EET
DTSTART:20251026T010000
END:STANDARD
END:VTIMEZONE
BEGIN:VEVENT
DTSTART;VALUE=DATE:20250322
DTEND;VALUE=DATE:20250323
DTSTAMP:20260422T214902
CREATED:20241018T070800Z
LAST-MODIFIED:20241018T070800Z
UID:49448-1742601600-1742687999@www.taunus4family.de
SUMMARY:Kinderbasar Ev. Kita Frechdachs
DESCRIPTION:-Save the Date-\nAm 22.03.2025 findet unser beliebter Frechdachsbasar im Bürgerhaus Hofheim-Marxheim statt. Nähere Infos zu Uhrzeit\, Rahmenbedingungen und Anmeldestart folgen.
URL:https://www.taunus4family.de/veranstaltung/kinderbasar-ev-kita-frechdachs/
LOCATION:Bürgerhaus Marxheim\, Hofheim\, Ahornstr.\, Hofheim\, 65719
CATEGORIES:Basare und Flohmärkte
ATTACH;FMTTYPE=image/jpeg:https://www.taunus4family.de/wp-content/uploads/2019/08/Fotolia_Nikolay-N.-Antonov.jpg
ORGANIZER;CN="Basarteam%20ev.%20Kita%20Frechdachs":MAILTO:frechdachsbasar@gmail.com
GEO:50.0676521;8.4340327
X-APPLE-STRUCTURED-LOCATION;VALUE=URI;X-ADDRESS=Bürgerhaus Marxheim Hofheim Ahornstr. Hofheim 65719;X-APPLE-RADIUS=500;X-TITLE=Ahornstr.:geo:8.4340327,50.0676521
END:VEVENT
END:VCALENDAR