BEGIN:VCALENDAR
VERSION:2.0
PRODID:-//taunus4family - ECPv5.14.1//NONSGML v1.0//EN
CALSCALE:GREGORIAN
METHOD:PUBLISH
X-WR-CALNAME:taunus4family
X-ORIGINAL-URL:https://www.taunus4family.de
X-WR-CALDESC:Veranstaltungen für taunus4family
BEGIN:VTIMEZONE
TZID:Europe/Helsinki
BEGIN:DAYLIGHT
TZOFFSETFROM:+0200
TZOFFSETTO:+0300
TZNAME:EEST
DTSTART:20250330T010000
END:DAYLIGHT
BEGIN:STANDARD
TZOFFSETFROM:+0300
TZOFFSETTO:+0200
TZNAME:EET
DTSTART:20251026T010000
END:STANDARD
END:VTIMEZONE
BEGIN:VEVENT
DTSTART;TZID=Europe/Helsinki:20250308T130000
DTEND;TZID=Europe/Helsinki:20250308T160000
DTSTAMP:20260423T040914
CREATED:20241207T113002Z
LAST-MODIFIED:20241207T113002Z
UID:49781-1741438800-1741449600@www.taunus4family.de
SUMMARY:Kinderflohmarkt – alles rund ums Kind
DESCRIPTION:Wann? 08.03.2025\n13:00 bis 16:00 Uhr (Aufbau ab 12:00 Uhr) \nWo: Gemeindehaus\, Kapellenstraße 1\, 65830 Kriftel \nKosten: 10€ oder 5€+Kuchenspende je Stand \nGröße des Tisches je Stand: 70×140 cm \nAnmeldung bald möglich unter: https://fv-vitus.de/
URL:https://www.taunus4family.de/veranstaltung/kinderflohmarkt-alles-rund-ums-kind-2/
LOCATION:gemeindehaus kriftel – kapellenstrasse 1 – 65830 Kriftel\, Kapellenstrasse 1\, Kriftel\, 65830
CATEGORIES:Basare und Flohmärkte
ATTACH;FMTTYPE=image/jpeg:https://www.taunus4family.de/wp-content/uploads/2019/09/iStock-ArminStautBerlin.jpg
ORGANIZER;CN="f%26ouml%3Brderverein%20kita%20st%20vitus":MAILTO:Nicole.krimmel@web.de
GEO:50.082428;8.4663716
X-APPLE-STRUCTURED-LOCATION;VALUE=URI;X-ADDRESS=gemeindehaus kriftel – kapellenstrasse 1 – 65830 Kriftel Kapellenstrasse 1 Kriftel 65830;X-APPLE-RADIUS=500;X-TITLE=Kapellenstrasse 1:geo:8.4663716,50.082428
END:VEVENT
END:VCALENDAR