BEGIN:VCALENDAR
VERSION:2.0
PRODID:-//taunus4family - ECPv5.14.1//NONSGML v1.0//EN
CALSCALE:GREGORIAN
METHOD:PUBLISH
X-WR-CALNAME:taunus4family
X-ORIGINAL-URL:https://www.taunus4family.de
X-WR-CALDESC:Veranstaltungen für taunus4family
BEGIN:VTIMEZONE
TZID:Europe/Helsinki
BEGIN:DAYLIGHT
TZOFFSETFROM:+0200
TZOFFSETTO:+0300
TZNAME:EEST
DTSTART:20240331T010000
END:DAYLIGHT
BEGIN:STANDARD
TZOFFSETFROM:+0300
TZOFFSETTO:+0200
TZNAME:EET
DTSTART:20241027T010000
END:STANDARD
END:VTIMEZONE
BEGIN:VEVENT
DTSTART;TZID=Europe/Helsinki:20240309T130000
DTEND;TZID=Europe/Helsinki:20240309T160000
DTSTAMP:20260424T144203
CREATED:20240227T061008Z
LAST-MODIFIED:20240227T061008Z
UID:47449-1709989200-1710000000@www.taunus4family.de
SUMMARY:Kinderflohmarkt - Alles rund ums Kind
DESCRIPTION:Kinderflohmarkt – Alles rund ums Kind \nAttraktive Innenstände im Gemeindehaus Kriftel (Kapellenstrasse 1\, 65830 Kriftel)\nVon 13-16:00 Uhr. Snacks\, so wie Kaffee- und Kuchenverkauf.\nStandgebühr 10€\nMehr Infos unter: \n\n\nSie sehen gerade einen Platzhalterinhalt von Standard. Um auf den eigentlichen Inhalt zuzugreifen\, klicken Sie auf den Button unten. Bitte beachten Sie\, dass dabei Daten an Drittanbieter weitergegeben werden. \n Inhalt entsperren Erforderlichen Service akzeptieren und Inhalte entsperren \n Mehr Informationen
URL:https://www.taunus4family.de/veranstaltung/kinderflohmarkt-alles-rund-ums-kind/
LOCATION:gemeindehaus kriftel – kapellenstrasse 1 – 65830 Kriftel\, Kapellenstrasse 1\, Kriftel\, 65830
CATEGORIES:Basare und Flohmärkte
ATTACH;FMTTYPE=image/jpeg:https://www.taunus4family.de/wp-content/uploads/2024/02/DA3B6DDB-7F7C-4D15-AFEE-35B0A4CF908F.jpeg
GEO:50.082428;8.4663716
X-APPLE-STRUCTURED-LOCATION;VALUE=URI;X-ADDRESS=gemeindehaus kriftel – kapellenstrasse 1 – 65830 Kriftel Kapellenstrasse 1 Kriftel 65830;X-APPLE-RADIUS=500;X-TITLE=Kapellenstrasse 1:geo:8.4663716,50.082428
END:VEVENT
END:VCALENDAR