BEGIN:VCALENDAR
VERSION:2.0
PRODID:-//taunus4family - ECPv5.14.1//NONSGML v1.0//EN
CALSCALE:GREGORIAN
METHOD:PUBLISH
X-WR-CALNAME:taunus4family
X-ORIGINAL-URL:https://www.taunus4family.de
X-WR-CALDESC:Veranstaltungen für taunus4family
BEGIN:VTIMEZONE
TZID:Europe/Helsinki
BEGIN:DAYLIGHT
TZOFFSETFROM:+0200
TZOFFSETTO:+0300
TZNAME:EEST
DTSTART:20250330T010000
END:DAYLIGHT
BEGIN:STANDARD
TZOFFSETFROM:+0300
TZOFFSETTO:+0200
TZNAME:EET
DTSTART:20251026T010000
END:STANDARD
END:VTIMEZONE
BEGIN:VEVENT
DTSTART;TZID=Europe/Helsinki:20250308T140000
DTEND;TZID=Europe/Helsinki:20250308T160000
DTSTAMP:20260423T025050
CREATED:20250116T065624Z
LAST-MODIFIED:20250116T065624Z
UID:49929-1741442400-1741449600@www.taunus4family.de
SUMMARY:Kinderkleiderbasar für Frühjahr- und Sommerbekleidung
DESCRIPTION:Am Samstag\, 08. März 2025 veranstalten der TuS Steinfischbach\, die Kindertagesstätte Gänseblümchen und der Naturkindergarten Steinfischbach wieder ihren Kinderkleiderbasar.\nVon 14.00 Uhr bis 16.00 Uhr kann in der Kulturhalle in Waldems-Steinfischbach wieder nach Frühjahr- und Sommerbekleidung in den Größen 50 – 176\, Schuhen bis Größe 39\, Babyausstattung\, Spielzeug\, Spielen\, Puzzles\, Büchern\, DVDs\, CDs\, Umstandsmode\, Kinderfahrzeugen und vielem mehr\ngestöbert werden. Der Einlass für Schwangere ist ab 12:30 Uhr.\nFür das leibliche Wohl ist mit einem großen Kuchenbuffet gesorgt.\nWer sich um eine Verkaufsnummer bewerben möchte\, meldet sich bitte per E-Mail an kinderbasar.steinfischbach@gmail.com .\nVerkäufer\, die beim letzten Basar bereits eine Nummer hatten\, geben diese bitte in der E-Mail an. Die Nummernvergabe erfolgt ab dem 16. Februar 2025.\nWir bitten von früheren Nachfragen abzusehen!\nDie Teilnahme kostest pro Verkaufsnummer 5\,00 € sowie 15% des Verkaufserlöses.\nPro Verkaufsnummer können bis zu 50 Teile abgegeben werden.\nInformationen über die Termine der nächsten Steinfischbacher Kinderbasare sowie allerlei Interessantes sind auch auf der Homepage des Kinderbasars Waldems-Steinfischbach zu finden https://kinderbasarsteinfischbach.wordpress.com/. \nDer Erlös kommt der Kindertagesstätte Gänseblümchen\, dem Naturkindergarten und der Kinder-Turnabteilung des TUS Steinfischbach zu Gute.
URL:https://www.taunus4family.de/veranstaltung/kinderkleiderbasar-fuer-fruehjahr-und-sommerbekleidung/
LOCATION:Kulturhalle Waldems-Steinfischbach\, An der Kulturhalle\, Waldems-Steinfischbach\, 65529
CATEGORIES:Basare und Flohmärkte
ATTACH;FMTTYPE=image/jpeg:https://www.taunus4family.de/wp-content/uploads/2017/02/kleiderbasar.jpg
ORGANIZER;CN="Kinderbasarteam%20Steinfischbach":MAILTO:tus-event@web.de
GEO:50.2746436;8.3494586
X-APPLE-STRUCTURED-LOCATION;VALUE=URI;X-ADDRESS=Kulturhalle Waldems-Steinfischbach An der Kulturhalle Waldems-Steinfischbach 65529;X-APPLE-RADIUS=500;X-TITLE=An der Kulturhalle:geo:8.3494586,50.2746436
END:VEVENT
END:VCALENDAR