BEGIN:VCALENDAR
VERSION:2.0
PRODID:-//taunus4family - ECPv5.14.1//NONSGML v1.0//EN
CALSCALE:GREGORIAN
METHOD:PUBLISH
X-WR-CALNAME:taunus4family
X-ORIGINAL-URL:https://www.taunus4family.de
X-WR-CALDESC:Veranstaltungen für taunus4family
BEGIN:VTIMEZONE
TZID:Europe/Helsinki
BEGIN:DAYLIGHT
TZOFFSETFROM:+0200
TZOFFSETTO:+0300
TZNAME:EEST
DTSTART:20250330T010000
END:DAYLIGHT
BEGIN:STANDARD
TZOFFSETFROM:+0300
TZOFFSETTO:+0200
TZNAME:EET
DTSTART:20251026T010000
END:STANDARD
END:VTIMEZONE
BEGIN:VEVENT
DTSTART;TZID=Europe/Helsinki:20250315T100000
DTEND;TZID=Europe/Helsinki:20250315T130000
DTSTAMP:20260422T200510
CREATED:20250105T121027Z
LAST-MODIFIED:20250118T121059Z
UID:49894-1742032800-1742043600@www.taunus4family.de
SUMMARY:Kindersachen-Basar 2025
DESCRIPTION:Großer Kindersachen-Basar mit über 60 Ständen. Kleidung\, Spielzeug und vieles mehr…wir freuen uns auf euer Kommen!\nAnmeldung für Selbstverkäufer*innen per E-Mail unter flohmarkt.rosenhecke@gmx.de (Angabe von Name und Telefonnummer\, max. ein Tisch pro Person reservierbar). Kosten: 12 EUR pro Tisch ohne Kuchen (7 EUR pro Tisch mit Kuchen)\nEinlass für Schwangere (Mutterpass) mit Begleitperson ab 9:30 Uhr.\nKaffee\, Kuchen und Brezeln zum Mitnehmen.
URL:https://www.taunus4family.de/veranstaltung/kindersachen-basar-2025/
LOCATION:Kath. Gemeindezentrum Christ-König Eschborn\, Hauptstraße 52\, Eschborn\, 65760\, Deutschland
CATEGORIES:Basare und Flohmärkte
ATTACH;FMTTYPE=image/jpeg:https://www.taunus4family.de/wp-content/uploads/2025/01/Plakat_Rosenhecke_Basar_Fruehling_2025_klein.jpg
ORGANIZER;CN="Kath.%20Kita%20Rosenhecke%20Eschborn":MAILTO:flohmarkt.rosenhecke@gmx.de
GEO:50.14235;8.56542
X-APPLE-STRUCTURED-LOCATION;VALUE=URI;X-ADDRESS=Kath. Gemeindezentrum Christ-König Eschborn Hauptstraße 52 Eschborn 65760 Deutschland;X-APPLE-RADIUS=500;X-TITLE=Hauptstraße 52:geo:8.56542,50.14235
END:VEVENT
END:VCALENDAR