BEGIN:VCALENDAR
VERSION:2.0
PRODID:-//taunus4family - ECPv5.14.1//NONSGML v1.0//EN
CALSCALE:GREGORIAN
METHOD:PUBLISH
X-WR-CALNAME:taunus4family
X-ORIGINAL-URL:https://www.taunus4family.de
X-WR-CALDESC:Veranstaltungen für taunus4family
BEGIN:VTIMEZONE
TZID:Europe/Helsinki
BEGIN:DAYLIGHT
TZOFFSETFROM:+0200
TZOFFSETTO:+0300
TZNAME:EEST
DTSTART:20240331T010000
END:DAYLIGHT
BEGIN:STANDARD
TZOFFSETFROM:+0300
TZOFFSETTO:+0200
TZNAME:EET
DTSTART:20241027T010000
END:STANDARD
END:VTIMEZONE
BEGIN:VEVENT
DTSTART;TZID=Europe/Helsinki:20240914T100000
DTEND;TZID=Europe/Helsinki:20240914T130000
DTSTAMP:20260424T205801
CREATED:20240717T074046Z
LAST-MODIFIED:20240717T074114Z
UID:48677-1726308000-1726318800@www.taunus4family.de
SUMMARY:Kindersachen-Basar in Eschborn
DESCRIPTION:Kindersachen-Basar mit über 60 Ständen im Kath. Gemeindezentrum Christ-König (Hauptstraße 52\, 65760 Eschborn). Es gibt Kleidung\, Spielzeug und vieles mehr rund ums Kind…wir freuen uns auf Ihr Kommen!\nEinlass für Schwangere (Mutterpass) mit Begleitperson ab 9:30 Uhr. \nKaffee\, Kuchen und Brezeln zum Mitnehmen. \nAnmeldung für Selbstverkäufer*innen für einen Tisch per E-Mail unter flohmarkt.rosenhecke@gmx.de (Angabe von Name\, Adresse und Telefonnummer). Kosten: 7 € mit Kuchen oder 12 € ohne Kuchen
URL:https://www.taunus4family.de/veranstaltung/kindersachen-basar-in-eschborn-2/
LOCATION:Kath. Gemeindezentrum Christ-König Eschborn\, Hauptstraße 52\, Eschborn\, 65760\, Deutschland
CATEGORIES:Basare und Flohmärkte
ATTACH;FMTTYPE=image/jpeg:https://www.taunus4family.de/wp-content/uploads/2024/07/Rosenhecke_Basar_Plakat_Herbst_2024_klein.jpg
ORGANIZER;CN="Kath.%20Kita%20Rosenhecke%20Eschborn":MAILTO:flohmarkt.rosenhecke@gmx.de
GEO:50.14235;8.56542
X-APPLE-STRUCTURED-LOCATION;VALUE=URI;X-ADDRESS=Kath. Gemeindezentrum Christ-König Eschborn Hauptstraße 52 Eschborn 65760 Deutschland;X-APPLE-RADIUS=500;X-TITLE=Hauptstraße 52:geo:8.56542,50.14235
END:VEVENT
END:VCALENDAR