BEGIN:VCALENDAR
VERSION:2.0
PRODID:-//taunus4family - ECPv5.14.1//NONSGML v1.0//EN
CALSCALE:GREGORIAN
METHOD:PUBLISH
X-WR-CALNAME:taunus4family
X-ORIGINAL-URL:https://www.taunus4family.de
X-WR-CALDESC:Veranstaltungen für taunus4family
BEGIN:VTIMEZONE
TZID:Europe/Helsinki
BEGIN:DAYLIGHT
TZOFFSETFROM:+0200
TZOFFSETTO:+0300
TZNAME:EEST
DTSTART:20240331T010000
END:DAYLIGHT
BEGIN:STANDARD
TZOFFSETFROM:+0300
TZOFFSETTO:+0200
TZNAME:EET
DTSTART:20241027T010000
END:STANDARD
END:VTIMEZONE
BEGIN:VEVENT
DTSTART;TZID=Europe/Helsinki:20240907T130000
DTEND;TZID=Europe/Helsinki:20240907T160000
DTSTAMP:20260424T130008
CREATED:20240530T110523Z
LAST-MODIFIED:20240530T110523Z
UID:48354-1725714000-1725724800@www.taunus4family.de
SUMMARY:Kindersachenbasar
DESCRIPTION:Open Air Selbstverkäufer Basar für alles rund ums Kind mit Kaffee und Kuchen auf dem Außengelände des KIZ 109 \nAm Samstag\, den 07. September 2024\nVon 13:00 Uhr bis 16:00 Uhr\nEinlass für Schwangere um 12.30 Uhr \nKosten:\nfür Käufer: keine\nfür Verkäufer: 1 Kuchen + 7 € oder 12 € ohne Kuchen\nAnmeldungen werden ab sofort unter :Elternbeirat-kiz109@gmx.de angenommen. \nWir freuen uns auf viele Käufer und Verkäufer :)
URL:https://www.taunus4family.de/veranstaltung/kindersachenbasar/
LOCATION:KIZ 109 Hammarskjöldring\, Hammarskjöldring 17b\, Frankfurt am Main\, 60439
CATEGORIES:Basare und Flohmärkte
ATTACH;FMTTYPE=image/jpeg:https://www.taunus4family.de/wp-content/uploads/2019/09/iStock-vtmila.jpg
GEO:50.1586597;8.6259049
X-APPLE-STRUCTURED-LOCATION;VALUE=URI;X-ADDRESS=KIZ 109 Hammarskjöldring Hammarskjöldring 17b Frankfurt am Main 60439;X-APPLE-RADIUS=500;X-TITLE=Hammarskjöldring 17b:geo:8.6259049,50.1586597
END:VEVENT
END:VCALENDAR