BEGIN:VCALENDAR
VERSION:2.0
PRODID:-//taunus4family - ECPv5.14.1//NONSGML v1.0//EN
CALSCALE:GREGORIAN
METHOD:PUBLISH
X-WR-CALNAME:taunus4family
X-ORIGINAL-URL:https://www.taunus4family.de
X-WR-CALDESC:Veranstaltungen für taunus4family
BEGIN:VTIMEZONE
TZID:Europe/Helsinki
BEGIN:DAYLIGHT
TZOFFSETFROM:+0200
TZOFFSETTO:+0300
TZNAME:EEST
DTSTART:20250330T010000
END:DAYLIGHT
BEGIN:STANDARD
TZOFFSETFROM:+0300
TZOFFSETTO:+0200
TZNAME:EET
DTSTART:20251026T010000
END:STANDARD
END:VTIMEZONE
BEGIN:VEVENT
DTSTART;TZID=Europe/Helsinki:20250510T140000
DTEND;TZID=Europe/Helsinki:20250510T163000
DTSTAMP:20260422T140331
CREATED:20250217T183803Z
LAST-MODIFIED:20250217T183803Z
UID:50241-1746885600-1746894600@www.taunus4family.de
SUMMARY:Kindersachenflohmarkt Friedrich-Ludwig-Jahn-Schule
DESCRIPTION:Am Samstag\, den 10.05.2025 findet von 14:00 bis 16:30 Uhr auf dem Schulhof der Friedrich-Ludwig-Jahn-Schule ein Kindersachenflohmarkt statt. Angeboten werden Kinder- und Babykleidung\, Spielzeug\, Kinderbücher und vieles mehr. Zur Stärkung gibt es frische Waffeln\, Kuchen und Getränke. \nDie Standgebühr beträgt für 3 m Standlänge 8\,00 € plus einen selbstgebackenen Kuchen oder alternativ 14\,00 € ohne Kuchen. Kleiderständer kosten 2\,00 € zusätzlich. Keine Neuware! Der Aufbau beginnt ab 13:00 Uhr. Tische bitte selbst mitbringen. \nHinweis: Der Kindersachenflohmarkt findet wetterunabhängig (überdacht) statt! \nEure Anmeldung oder Fragen sendet ihr bitte an flohmarkt-jahnschule@gmx.de. \nAlle Erlöse der Kuchentheke\, des Waffelstands sowie die Standgebühren kommen dem Förderverein der Friedrich-Ludwig-Jahn-Schule zugute! \nVeranstalter: Flohmarkt-Orgateam der Friedrich-Ludwig-Jahn-Schule\, Karlstraße 21-25\, 65185 Wiesbaden
URL:https://www.taunus4family.de/veranstaltung/kindersachenflohmarkt-friedrich-ludwig-jahn-schule-2/
LOCATION:Friedrich-Ludwig-Jahn-Schule\, Karlstraße 21-25\, Wiesbaden\, 65185
CATEGORIES:Basare und Flohmärkte
ATTACH;FMTTYPE=image/jpeg:https://www.taunus4family.de/wp-content/uploads/2025/02/Flohmarkt.jpg
ORGANIZER;CN="Flohmarkt-Orgateam%20der%20Friedrich-Ludwig-Jahn-Schule":MAILTO:flohmarkt-jahnschule@gmx.de
GEO:50.0765;8.23483
X-APPLE-STRUCTURED-LOCATION;VALUE=URI;X-ADDRESS=Friedrich-Ludwig-Jahn-Schule Karlstraße 21-25 Wiesbaden 65185;X-APPLE-RADIUS=500;X-TITLE=Karlstraße 21-25:geo:8.23483,50.0765
END:VEVENT
END:VCALENDAR