BEGIN:VCALENDAR
VERSION:2.0
PRODID:-//taunus4family - ECPv5.14.1//NONSGML v1.0//EN
CALSCALE:GREGORIAN
METHOD:PUBLISH
X-WR-CALNAME:taunus4family
X-ORIGINAL-URL:https://www.taunus4family.de
X-WR-CALDESC:Veranstaltungen für taunus4family
BEGIN:VTIMEZONE
TZID:Europe/Helsinki
BEGIN:DAYLIGHT
TZOFFSETFROM:+0200
TZOFFSETTO:+0300
TZNAME:EEST
DTSTART:20250330T010000
END:DAYLIGHT
BEGIN:STANDARD
TZOFFSETFROM:+0300
TZOFFSETTO:+0200
TZNAME:EET
DTSTART:20251026T010000
END:STANDARD
END:VTIMEZONE
BEGIN:VEVENT
DTSTART;TZID=Europe/Helsinki:20250524T100000
DTEND;TZID=Europe/Helsinki:20250524T140000
DTSTAMP:20260422T034858
CREATED:20250430T053830Z
LAST-MODIFIED:20250430T053830Z
UID:50880-1748080800-1748095200@www.taunus4family.de
SUMMARY:Kindersachenflohmarkt KIDS Kindergarten
DESCRIPTION:Kindersachenflohmarkt\nKinderkleidung\, Spielsachen\, Bücher\nKaffee\, Kuchen\, Grillwurst\,und mehr!\nK.I.D.S. Kindergarten Spielplatz\nSebastian-Rinz-Straße 22\n60323\, Frankfurt am Main\nZur Anmeldung: board@kids-kindergarten.de\nTisch €10 – Decke – €5
URL:https://www.taunus4family.de/veranstaltung/kindersachenflohmarkt-kids-kindergarten/
LOCATION:60323 Frankfurt\, Sebastian Rinz Strasse 22\, Frankfurt\, 60323
CATEGORIES:Basare und Flohmärkte
ATTACH;FMTTYPE=image/jpeg:https://www.taunus4family.de/wp-content/uploads/2019/09/iStock-vtmila.jpg
ORGANIZER;CN="KIDS%20Kindergarten":MAILTO:board@kids-kindergarten.de
END:VEVENT
END:VCALENDAR