BEGIN:VCALENDAR
VERSION:2.0
PRODID:-//taunus4family - ECPv5.14.1//NONSGML v1.0//EN
CALSCALE:GREGORIAN
METHOD:PUBLISH
X-WR-CALNAME:taunus4family
X-ORIGINAL-URL:https://www.taunus4family.de
X-WR-CALDESC:Veranstaltungen für taunus4family
BEGIN:VTIMEZONE
TZID:Europe/Helsinki
BEGIN:DAYLIGHT
TZOFFSETFROM:+0200
TZOFFSETTO:+0300
TZNAME:EEST
DTSTART:20240331T010000
END:DAYLIGHT
BEGIN:STANDARD
TZOFFSETFROM:+0300
TZOFFSETTO:+0200
TZNAME:EET
DTSTART:20241027T010000
END:STANDARD
END:VTIMEZONE
BEGIN:VEVENT
DTSTART;TZID=Europe/Helsinki:20240522T153000
DTEND;TZID=Europe/Helsinki:20240522T163000
DTSTAMP:20260424T114159
CREATED:20240227T155006Z
LAST-MODIFIED:20240227T160702Z
UID:47508-1716391800-1716395400@www.taunus4family.de
SUMMARY:Kindertheater im e-werk - Alle seine Entlein
DESCRIPTION:„Alle seine Entlein“ erzählt die fesselnde Geschichte von Konrad\, dem Fuchs\, der sich sehnt\, Entenbraten zu genießen\, aber stattdessen ein Ei entdeckt. Gleichzeitig erzählt es die herzerwärmende Geschichte von Lorenz\, dem Küken\, das aus diesem Ei schlüpft und einen liebevollen Papa findet. Diese Geschichte ist sowohl die von Konrad als auch von Lorenz – eine berührende Erzählung über Liebe und Zuneigung. Das bezaubernde Theaterstück für kleine Theaterstarter und erfahrene Theaterhasen gleichermaßen wird mit faszinierend einfachen Mitteln aufgeführt. \nFür Kinder ab 3 Jahren. \n  \n**Bitte die verbindlichen Altersangaben beachten.**
URL:https://www.taunus4family.de/veranstaltung/kindertheater-im-e-werk-alle-seine-entlein/
LOCATION:Jugendkulturtreff E-Werk Bad Homburg\, Wallstr. 24\, Bad Homburg v. d. Höhe\, 61348\, Deutschland
CATEGORIES:Theater und Bühnen
ATTACH;FMTTYPE=image/jpeg:https://www.taunus4family.de/wp-content/uploads/2024/02/birte-hebold.jpg
ORGANIZER;CN="Magistrat%20der%20Stadt%20Bad%20Homburg":MAILTO:info@bad-homburg.de
GEO:50.2301;8.6124
X-APPLE-STRUCTURED-LOCATION;VALUE=URI;X-ADDRESS=Jugendkulturtreff E-Werk Bad Homburg Wallstr. 24 Bad Homburg v. d. Höhe 61348 Deutschland;X-APPLE-RADIUS=500;X-TITLE=Wallstr. 24:geo:8.6124,50.2301
END:VEVENT
END:VCALENDAR