BEGIN:VCALENDAR
VERSION:2.0
PRODID:-//taunus4family - ECPv5.14.1//NONSGML v1.0//EN
CALSCALE:GREGORIAN
METHOD:PUBLISH
X-WR-CALNAME:taunus4family
X-ORIGINAL-URL:https://www.taunus4family.de
X-WR-CALDESC:Veranstaltungen für taunus4family
BEGIN:VTIMEZONE
TZID:Europe/Helsinki
BEGIN:DAYLIGHT
TZOFFSETFROM:+0200
TZOFFSETTO:+0300
TZNAME:EEST
DTSTART:20250330T010000
END:DAYLIGHT
BEGIN:STANDARD
TZOFFSETFROM:+0300
TZOFFSETTO:+0200
TZNAME:EET
DTSTART:20251026T010000
END:STANDARD
END:VTIMEZONE
BEGIN:VEVENT
DTSTART;TZID=Europe/Helsinki:20251005T143000
DTEND;TZID=Europe/Helsinki:20251005T160000
DTSTAMP:20260422T061819
CREATED:20250929T154455Z
LAST-MODIFIED:20250929T154455Z
UID:52211-1759674600-1759680000@www.taunus4family.de
SUMMARY:Kino-Tipp für Familien: Ich bin William – warmherzig\, witzig und echt
DESCRIPTION:Was tun\, wenn das Leben plötzlich Kopf steht? William ist zehn Jahre alt\, sein Vater gestorben und seine Mutter in einer Klinik. Jetzt lebt er bei Onkel Nils – einem liebenswerten Chaoten mit großen Problemen. Schulden\, zwielichtige Geschäfte und jede Menge schräger Typen sorgen dafür\, dass William schneller erwachsen werden muss\, als ihm lieb ist. \nRegisseur Jonas Elmer erzählt diese Geschichte mit Humor\, Herz und einem feinen Gespür für Kinderperspektiven. Ich bin William (Originaltitel Jeg er William\, Dänemark 2017) basiert auf dem gleichnamigen Kinderbuch von Kim Fupz Aakeson und bietet beste Familienunterhaltung: witzig\, nachdenklich und authentisch. \nDer Film greift Themen auf\, die Kinder wie Erwachsene berühren: Verlust\, Verantwortung\, Freundschaft\, Loyalität und Selbstvertrauen. Dabei bleibt der Ton immer warm und optimistisch – ideal für ein gemeinsames Kinoerlebnis mit der ganzen Familie. \nEmpfohlenes Alter: ab ca. 6 JahrenLaufzeit: ca. 86 Minuten \nWer also Lust auf ein Kinderkino hat\, das Herz und Humor verbindet\, sollte Ich bin William nicht verpassen – ein echtes Highlight im Kino4Kids-Programm. \n  \nTicket\nPreis Erwachsener: 5\,00 € \n\n\nPreis Kind: 3\,00 €
URL:https://www.taunus4family.de/veranstaltung/kino-tipp-fuer-familien-ich-bin-william-warmherzig-witzig-und-echt/
LOCATION:Eschborn K\, Jahnstraße 3\, Eschborn\, 65760\, Deutschland
CATEGORIES:Theater und Bühnen
ATTACH;FMTTYPE=image/jpeg:https://www.taunus4family.de/wp-content/uploads/2025/09/Ich-bin-William.jpg
ORGANIZER;CN="Eschborn%20K":MAILTO:info@volksbildungswerk-eschborn.de
GEO:50.14217;8.56812
X-APPLE-STRUCTURED-LOCATION;VALUE=URI;X-ADDRESS=Eschborn K Jahnstraße 3 Eschborn 65760 Deutschland;X-APPLE-RADIUS=500;X-TITLE=Jahnstraße 3:geo:8.56812,50.14217
END:VEVENT
END:VCALENDAR