BEGIN:VCALENDAR
VERSION:2.0
PRODID:-//taunus4family - ECPv5.14.1//NONSGML v1.0//EN
CALSCALE:GREGORIAN
METHOD:PUBLISH
X-WR-CALNAME:taunus4family
X-ORIGINAL-URL:https://www.taunus4family.de
X-WR-CALDESC:Veranstaltungen für taunus4family
BEGIN:VTIMEZONE
TZID:Europe/Helsinki
BEGIN:DAYLIGHT
TZOFFSETFROM:+0200
TZOFFSETTO:+0300
TZNAME:EEST
DTSTART:20240331T010000
END:DAYLIGHT
BEGIN:STANDARD
TZOFFSETFROM:+0300
TZOFFSETTO:+0200
TZNAME:EET
DTSTART:20241027T010000
END:STANDARD
END:VTIMEZONE
BEGIN:VEVENT
DTSTART;TZID=Europe/Helsinki:20240310T140000
DTEND;TZID=Europe/Helsinki:20240310T150000
DTSTAMP:20260420T091215
CREATED:20240218T121719Z
LAST-MODIFIED:20240218T122105Z
UID:47406-1710079200-1710082800@www.taunus4family.de
SUMMARY:Klangwelten entdecken - Musiktheater für Kinder
DESCRIPTION:Das neue Konzertprogramm für Kinder im Casals Forum\nOb anregende Musik der Klassik und Romantik\, mitreißenden Jazz oder spannungsvolles Musiktheater – mit dem Kids@Casals Konzertprogramm für Kinder  können schon die Kleinsten in die farbenreiche Welt der Musik eintauchen. Geeignet für Kinder ab 5 Jahren. \nIn 28 Tagen durch Europa\nMusiktheater für Kinder\, inspiriert von Jules Verne\, präsentiert vom Pindakaas Saxophon Quartett und den talentierten Schauspielern Frank Dukowski und Marcell Kaiser\, unter der einfallsreichen Regie von Irmhild Willenbrink. \nTauchen Sie ein in eine zauberhafte Welt voller Abenteuer mit dem Pindakaas Saxophon Quartett\, begleitet von den charmanten Charakteren des englischen Gentlemans Phileas Fogg und seines schelmischen Kammerdieners Passepartout. Im März entführt uns diese dynamische Truppe auf eine rasante Reise durch Europa\, die nicht nur die Ohren\, sondern auch die Augen verzaubern wird. \nEin Musikgenuss für Augen und Ohren\, der garantiert die ganze Familie begeistert. \n  \nZwei Termine\n10. März: 14 Uhr und 16 Uhr \n  \nTickets und Preise\nNormalpreis 20 EUR\, Kinder bis 14 Jahre 10 EUR \nKarten hier bestellen!
URL:https://www.taunus4family.de/veranstaltung/klangwelten-entdecken-musiktheater-fuer-kinder/
LOCATION:Casals Forum Kronberg\, Beethovenpl. 1\, Carl Bechstein Saal\, Kronberg im Taunus\, 61476\, Deutschland
CATEGORIES:Musik und Konzerte
ATTACH;FMTTYPE=image/jpeg:https://www.taunus4family.de/wp-content/uploads/2024/02/casals.jpg
ORGANIZER;CN="Kronberg%20Academy%20Stiftung":MAILTO:stiftung@kronbergacademy.de
GEO:50.1803984;8.5152277
X-APPLE-STRUCTURED-LOCATION;VALUE=URI;X-ADDRESS=Casals Forum Kronberg Beethovenpl. 1 Carl Bechstein Saal Kronberg im Taunus 61476 Deutschland;X-APPLE-RADIUS=500;X-TITLE=Beethovenpl. 1\, Carl Bechstein Saal:geo:8.5152277,50.1803984
END:VEVENT
END:VCALENDAR