BEGIN:VCALENDAR
VERSION:2.0
PRODID:-//taunus4family - ECPv5.14.1//NONSGML v1.0//EN
CALSCALE:GREGORIAN
METHOD:PUBLISH
X-WR-CALNAME:taunus4family
X-ORIGINAL-URL:https://www.taunus4family.de
X-WR-CALDESC:Veranstaltungen für taunus4family
BEGIN:VTIMEZONE
TZID:Europe/Helsinki
BEGIN:DAYLIGHT
TZOFFSETFROM:+0200
TZOFFSETTO:+0300
TZNAME:EEST
DTSTART:20240331T010000
END:DAYLIGHT
BEGIN:STANDARD
TZOFFSETFROM:+0300
TZOFFSETTO:+0200
TZNAME:EET
DTSTART:20241027T010000
END:STANDARD
END:VTIMEZONE
BEGIN:VEVENT
DTSTART;TZID=Europe/Helsinki:20240822T080000
DTEND;TZID=Europe/Helsinki:20240822T170000
DTSTAMP:20260424T090930
CREATED:20240822T162639Z
LAST-MODIFIED:20240822T162639Z
UID:48984-1724313600-1724346000@www.taunus4family.de
SUMMARY:Kleider und Spielzeug Basar - Rund ums Kind
DESCRIPTION:Rund ums Kind \nAufbau ab 7:30uhr\nWahlweise in der Schulturnhalle oder auf dem Schulhof\nStandgebühr 12€ Max. 3Meter
URL:https://www.taunus4family.de/veranstaltung/kleider-und-spielzeug-basar-rund-ums-kind/
LOCATION:Hattersheim-Eddersheim\, Grundschule am Weißen Stein\, Hattersheim\, 65795
CATEGORIES:Basare und Flohmärkte
ATTACH;FMTTYPE=image/jpeg:https://www.taunus4family.de/wp-content/uploads/2019/09/iStock-vtmila.jpg
GEO:50.0425714;8.4690331
X-APPLE-STRUCTURED-LOCATION;VALUE=URI;X-ADDRESS=Hattersheim-Eddersheim Grundschule am Weißen Stein Hattersheim 65795;X-APPLE-RADIUS=500;X-TITLE=Grundschule am Weißen Stein:geo:8.4690331,50.0425714
END:VEVENT
END:VCALENDAR