BEGIN:VCALENDAR
VERSION:2.0
PRODID:-//taunus4family - ECPv5.14.1//NONSGML v1.0//EN
CALSCALE:GREGORIAN
METHOD:PUBLISH
X-WR-CALNAME:taunus4family
X-ORIGINAL-URL:https://www.taunus4family.de
X-WR-CALDESC:Veranstaltungen für taunus4family
BEGIN:VTIMEZONE
TZID:Europe/Helsinki
BEGIN:DAYLIGHT
TZOFFSETFROM:+0200
TZOFFSETTO:+0300
TZNAME:EEST
DTSTART:20250330T010000
END:DAYLIGHT
BEGIN:STANDARD
TZOFFSETFROM:+0300
TZOFFSETTO:+0200
TZNAME:EET
DTSTART:20251026T010000
END:STANDARD
END:VTIMEZONE
BEGIN:VEVENT
DTSTART;TZID=Europe/Helsinki:20250907T140000
DTEND;TZID=Europe/Helsinki:20250907T170000
DTSTAMP:20260422T054557
CREATED:20250824T133636Z
LAST-MODIFIED:20250826T071105Z
UID:51916-1757253600-1757264400@www.taunus4family.de
SUMMARY:Kleinkinder-Flohmarkt-Alles-rund-ums-Kind & Schwangerschaft
DESCRIPTION:Kleinkinder Flohmarkt – Alles rund ums Kind & Schwangerschaft
URL:https://www.taunus4family.de/veranstaltung/kleinkinder-flohmarkt-alles-rund-ums-kind-schwangeschaft/
LOCATION:TV 1844 Idstein J.P.\, Himmelsbornweg 7\, 65510 Idstein\, Himmelsbornweg 7\, Idstein\, 65510\, Deutschland
CATEGORIES:Basare und Flohmärkte
ATTACH;FMTTYPE=image/jpeg:https://www.taunus4family.de/wp-content/uploads/2025/08/20250823_210900000_iOS.jpg
ORGANIZER;CN="Kindertagespflege%20Idsteiner%20Land":MAILTO:info@feenlandkindertagespflege.de
END:VEVENT
END:VCALENDAR