BEGIN:VCALENDAR
VERSION:2.0
PRODID:-//taunus4family - ECPv5.14.1//NONSGML v1.0//EN
CALSCALE:GREGORIAN
METHOD:PUBLISH
X-WR-CALNAME:taunus4family
X-ORIGINAL-URL:https://www.taunus4family.de
X-WR-CALDESC:Veranstaltungen für taunus4family
BEGIN:VTIMEZONE
TZID:Europe/Helsinki
BEGIN:DAYLIGHT
TZOFFSETFROM:+0200
TZOFFSETTO:+0300
TZNAME:EEST
DTSTART:20240331T010000
END:DAYLIGHT
BEGIN:STANDARD
TZOFFSETFROM:+0300
TZOFFSETTO:+0200
TZNAME:EET
DTSTART:20241027T010000
END:STANDARD
END:VTIMEZONE
BEGIN:VEVENT
DTSTART;TZID=Europe/Helsinki:20240907T103000
DTEND;TZID=Europe/Helsinki:20240907T123000
DTSTAMP:20260424T094329
CREATED:20240827T131851Z
LAST-MODIFIED:20240827T131851Z
UID:48993-1725705000-1725712200@www.taunus4family.de
SUMMARY:Köpperner Kinderbasar
DESCRIPTION:Basar für Kinderkleidung\, Schwangerschaftskleidung\, Spielsachen und alles rund ums Kind.
URL:https://www.taunus4family.de/veranstaltung/koepperner-kinderbasar/
LOCATION:Forum Friedrichsdorf\,  Dreieichstraße 22\, Friedrichsdorf\, 61381\, Deutschland
CATEGORIES:Basare und Flohmärkte
ATTACH;FMTTYPE=image/jpeg:https://www.taunus4family.de/wp-content/uploads/2024/08/IMG-20240807-WA0000-002.jpg
ORGANIZER;CN="K%26ouml%3Bpperner%20Kinderbasar%20e.V.":MAILTO:team@koepperner-kinderbasar.de
GEO:50.27494;8.64678
X-APPLE-STRUCTURED-LOCATION;VALUE=URI;X-ADDRESS=Forum Friedrichsdorf  Dreieichstraße 22 Friedrichsdorf 61381 Deutschland;X-APPLE-RADIUS=500;X-TITLE=Dreieichstraße 22:geo:8.64678,50.27494
END:VEVENT
END:VCALENDAR