BEGIN:VCALENDAR
VERSION:2.0
PRODID:-//taunus4family - ECPv5.14.1//NONSGML v1.0//EN
CALSCALE:GREGORIAN
METHOD:PUBLISH
X-WR-CALNAME:taunus4family
X-ORIGINAL-URL:https://www.taunus4family.de
X-WR-CALDESC:Veranstaltungen für taunus4family
BEGIN:VTIMEZONE
TZID:Europe/Helsinki
BEGIN:DAYLIGHT
TZOFFSETFROM:+0200
TZOFFSETTO:+0300
TZNAME:EEST
DTSTART:20250330T010000
END:DAYLIGHT
BEGIN:STANDARD
TZOFFSETFROM:+0300
TZOFFSETTO:+0200
TZNAME:EET
DTSTART:20251026T010000
END:STANDARD
END:VTIMEZONE
BEGIN:VEVENT
DTSTART;VALUE=DATE:20250101
DTEND;VALUE=DATE:20260101
DTSTAMP:20260424T090337
CREATED:20250328T161243Z
LAST-MODIFIED:20250406T122909Z
UID:50713-1735689600-1767225599@www.taunus4family.de
SUMMARY:Konzertgenuss - 10er bis 25!
DESCRIPTION:10-Euro-Tickets\, den Rest kannst du dir sparen!\nDie Alte Oper macht den Konzertbesuch für junge Menschen bis 25 Jahre besonders erschwinglich: Für nur zehn Euro gibt es Tickets zu Eigenveranstaltungen – und das bereits im Vorverkauf. So lässt sich der Konzertbesuch nicht nur günstig\, sondern auch frühzeitig planen. \nDie vergünstigten „Ein Zehner bis 25“-Tickets sind online\, telefonisch und an allen Vorverkaufsstellen von Frankfurt Ticket erhältlich. Da das Kontingent begrenzt ist\, lohnt es sich\, frühzeitig zuzugreifen. Die Ermäßigung gilt ausschließlich für Eigenveranstaltungen der Alten Oper und ist nicht in allen Preiskategorien verfügbar. Einige Konzerte sind von der Aktion ausgenommen. Beim Einlass ist ein gültiges Ausweisdokument erforderlich. \nUnd so gehts: \nWähle Deine Wunschveranstaltung aus der untenstehenden Liste aus.\nKlicke auf den Ticket-Button. Du wirst nun auf die Website von Frankfurt Ticket weitergeleitet.\nSuche Dir einen Lieblingsplatz im Saalplan. Wenn Du daraufklickst\, wird Dir eine Liste mit verschiedenen Preisen angezeigt. Wähle Zehner bis 25 und beende den Bestellvorgang.\nNicht immer sind alle Plätze zu dieser Ermäßigung verfügbar. Sollte Dir in der Liste einmal kein Zehner bis 25-Ticket angezeigt werden\, suche Dir einen anderen Platz in einer anderen Preiskategorie im Saal. \nBitte beachte\, dass bei Online-Buchungen € 1\,- E-Ticketgebühr anfällt. \nWeitere Informationen und Programm hier! 
URL:https://www.taunus4family.de/veranstaltung/konzertgenuss-10er-bis-25/
LOCATION:Alte Oper Frankfurt\, Opernplatz\, Frankfurt am Main\, 60313\, Deutschland
CATEGORIES:Musik und Konzerte
ATTACH;FMTTYPE=image/jpeg:https://www.taunus4family.de/wp-content/uploads/2025/03/iStock-meinzahn.jpg
ORGANIZER;CN="Alte%20Oper%20Frankfurt%20Konzert-%20und%20Kongresszentrum%20GmbH":MAILTO:info@alteoper.de
GEO:50.1155474;8.6725934
X-APPLE-STRUCTURED-LOCATION;VALUE=URI;X-ADDRESS=Alte Oper Frankfurt Opernplatz Frankfurt am Main 60313 Deutschland;X-APPLE-RADIUS=500;X-TITLE=Opernplatz:geo:8.6725934,50.1155474
END:VEVENT
END:VCALENDAR