BEGIN:VCALENDAR
VERSION:2.0
PRODID:-//taunus4family - ECPv5.14.1//NONSGML v1.0//EN
CALSCALE:GREGORIAN
METHOD:PUBLISH
X-WR-CALNAME:taunus4family
X-ORIGINAL-URL:https://www.taunus4family.de
X-WR-CALDESC:Veranstaltungen für taunus4family
BEGIN:VTIMEZONE
TZID:Europe/Helsinki
BEGIN:DAYLIGHT
TZOFFSETFROM:+0200
TZOFFSETTO:+0300
TZNAME:EEST
DTSTART:20250330T010000
END:DAYLIGHT
BEGIN:STANDARD
TZOFFSETFROM:+0300
TZOFFSETTO:+0200
TZNAME:EET
DTSTART:20251026T010000
END:STANDARD
END:VTIMEZONE
BEGIN:VEVENT
DTSTART;TZID=Europe/Helsinki:20250614T130000
DTEND;TZID=Europe/Helsinki:20250614T180000
DTSTAMP:20260420T062436
CREATED:20250521T093031Z
LAST-MODIFIED:20250521T093343Z
UID:51071-1749906000-1749924000@www.taunus4family.de
SUMMARY:Kronberger Erdbeerfest 2025
DESCRIPTION:Die ersten Erdbeeren wurden damals bevorzugt an den sonnigen Südhängen (Philosophenweg) und Glas gezogen. Die Zeiten sind zwar mittlerweile längst vorbei\, die roten Früchte sind jedoch unverändert beliebt bei Jung und Alt. \nErdbeerwochenende \nAm Samstag\, den 14. Juni\, und Sonntag\, den 15. Juni\, dreht sich auf der Burg alles um die Königin unter den Früchten: die Erdbeere. Ob auf Kuchen\, mit Sahne\, als Marmelade\, in der Bowle oder pur – Erdbeeren sind ein echter Sommergenuss\, dem wir auch in diesem Jahr ein ganzes Wochenende widmen. \nUnter dem Motto „Süße Früchtchen“ erwartet die Besucherinnen und Besucher ein abwechslungsreiches Programm aus Handgemachtem\, Selbstgekochtem\, Kunsthandwerk und Livemusik. Für die kleinen Gäste sorgen die Arbeitsgruppe „Junge Burg“ des Burgvereins sowie die Rittergarde mit spannenden Mitmachaktionen und Spielen für Unterhaltung. \nIm Mittelpunkt steht jedoch das besondere Gefühl von Frühsommer – und natürlich der unverwechselbare Geschmack sonnengereifter Erdbeeren. \nEin Fest für die ganze Familie in historischer Kulisse. \n 
URL:https://www.taunus4family.de/veranstaltung/kronberger-erdbeerfest-2025/
LOCATION:Altstadt Kronberg\, Kronberg\, 61476\, Deutschland
CATEGORIES:Feste und Märkte
ATTACH;FMTTYPE=image/jpeg:https://www.taunus4family.de/wp-content/uploads/2019/03/Erdbeerfest.jpg
ORGANIZER;CN="Bund%20der%20Selbst%C3%A4ndigen%20Kronberg%20im%20Taunus%20e.V.":MAILTO:info@bds-kronberg.de
END:VEVENT
END:VCALENDAR