BEGIN:VCALENDAR
VERSION:2.0
PRODID:-//taunus4family - ECPv5.14.1//NONSGML v1.0//EN
CALSCALE:GREGORIAN
METHOD:PUBLISH
X-WR-CALNAME:taunus4family
X-ORIGINAL-URL:https://www.taunus4family.de
X-WR-CALDESC:Veranstaltungen für taunus4family
BEGIN:VTIMEZONE
TZID:Europe/Helsinki
BEGIN:DAYLIGHT
TZOFFSETFROM:+0200
TZOFFSETTO:+0300
TZNAME:EEST
DTSTART:20260329T010000
END:DAYLIGHT
BEGIN:STANDARD
TZOFFSETFROM:+0300
TZOFFSETTO:+0200
TZNAME:EET
DTSTART:20261025T010000
END:STANDARD
END:VTIMEZONE
BEGIN:VEVENT
DTSTART;TZID=Europe/Helsinki:20260425T210000
DTEND;TZID=Europe/Helsinki:20260425T223000
DTSTAMP:20260419T224151
CREATED:20260419T145416Z
LAST-MODIFIED:20260419T145710Z
UID:54155-1777150800-1777156200@www.taunus4family.de
SUMMARY:Kronberger Laternenweg
DESCRIPTION:Auf dem Laternenweg Geschichte erleben: Kronbergs Altstadt wird zur Bühne\nWenn in der Kronberg im Taunus Altstadt Geschichte lebendig wird\, erwartet Familien und Kulturfreunde ein ganz besonderes Erlebnis. Der Kronberger Laternenweg verbindet Stadtspaziergang\, Kunst und lebendige Erzählkunst auf charmante Weise. Fast 50 kunstvolle Scherenschnitte des Künstlers Albert Völkl schmücken die Straßenlaternen der historischen Gassen und erzählen Sagen\, Überlieferungen und prägende Momente aus der Geschichte Kronbergs. \nSzenische Führung mit Marktfrauen\, Rittern und alten Geschichten\nEinmal im Monat lädt die 1. Kronberger Laienspielschar dazu ein\, den Laternenweg auf besondere Weise zu entdecken. Bei einer szenischen Führung begegnen Besucherinnen und Besucher historischen Figuren\, hören spannende Anekdoten und tauchen ein in vergangene Zeiten – von fleißigen Marktfrauen über streitlustige Ritter bis hin zu hitzigen Prälaten. \nGerade für Familien mit älteren Kindern ist diese Mischung aus Stadtführung und Schauspiel eine unterhaltsame Möglichkeit\, Geschichte hautnah zu erleben. \nÖffnungszeiten\, Termine und Preise\nDer Laternenweg selbst ist ganzjährig frei zugänglich und jederzeit individuell begehbar.Die szenischen Führungen finden in der Regel einmal monatlich statt. Aktuelle Termine empfiehlt taunus4family direkt beim Veranstalter zu prüfen. \nTreffpunkt: Recepturhof\, Friedrich-Ebert-Straße\, Kronberg im TaunusDauer: ca. 1 bis 1\,5 StundenPreis: 10 € pro Person inklusive 1 Getränk\, Karten an der Abendkasse
URL:https://www.taunus4family.de/veranstaltung/kronberger-laternenweg/
LOCATION:RecepturHof Kronberg\, Friedrich-Ebert-Str. 6\, Kronberg im Taunus\, 61476\, Deutschland
CATEGORIES:Freizeit
ATTACH;FMTTYPE=image/jpeg:https://www.taunus4family.de/wp-content/uploads/2016/11/laternenweg-kronberg.jpg
ORGANIZER;CN="Kronberger%20Kulturkreis%20e.V.":MAILTO:info@kronberger-kulturkreis.de
GEO:50.1798117;8.5096297
X-APPLE-STRUCTURED-LOCATION;VALUE=URI;X-ADDRESS=RecepturHof Kronberg Friedrich-Ebert-Str. 6 Kronberg im Taunus 61476 Deutschland;X-APPLE-RADIUS=500;X-TITLE=Friedrich-Ebert-Str. 6:geo:8.5096297,50.1798117
END:VEVENT
END:VCALENDAR