BEGIN:VCALENDAR
VERSION:2.0
PRODID:-//taunus4family - ECPv5.14.1//NONSGML v1.0//EN
CALSCALE:GREGORIAN
METHOD:PUBLISH
X-WR-CALNAME:taunus4family
X-ORIGINAL-URL:https://www.taunus4family.de
X-WR-CALDESC:Veranstaltungen für taunus4family
BEGIN:VTIMEZONE
TZID:Europe/Helsinki
BEGIN:DAYLIGHT
TZOFFSETFROM:+0200
TZOFFSETTO:+0300
TZNAME:EEST
DTSTART:20240331T010000
END:DAYLIGHT
BEGIN:STANDARD
TZOFFSETFROM:+0300
TZOFFSETTO:+0200
TZNAME:EET
DTSTART:20241027T010000
END:STANDARD
END:VTIMEZONE
BEGIN:VEVENT
DTSTART;TZID=Europe/Helsinki:20241116T120000
DTEND;TZID=Europe/Helsinki:20241116T150000
DTSTAMP:20260425T181102
CREATED:20241001T063445Z
LAST-MODIFIED:20241001T063445Z
UID:49306-1731758400-1731769200@www.taunus4family.de
SUMMARY:Lions Club Kleiderbasar in Königstein
DESCRIPTION:Am 16. November 2024 veranstaltet der Lions Club Königstein Burg einen Kleiderbasar im katholischen Gemeindezentrum in der Georg-Pingler-Straße 26 in Königstein. Von 12 bis 15 Uhr erwartet Sie eine große Auswahl an hauptsächlich Frauenkleidung\, aber auch Männerkleidung ist verfügbar. Jedes Kleidungsstück wird zum Preis von nur 2 Euro angeboten. Für besonders hochwertige Kleidung gibt es eine spezielle Exklusivecke\, in der die Preise bei 5 oder 10 Euro liegen. \nDer Erlös des Basars kommt unter anderem den Freiwilligen Feuerwehren Königstein zugute. Zusätzlich findet ein Kuchenverkauf durch den Förderverein der Grundschule Schneidhain statt\, bei dem Besucher nach Herzenslust schlemmen können. Wir freuen uns auf Ihren Besuch und darauf\, gemeinsam mit Ihnen einen Beitrag für den guten Zweck zu leisten!
URL:https://www.taunus4family.de/veranstaltung/lions-club-kleiderbasar-in-koenigstein/
LOCATION:Katholischen Gemeindezentrum\, Georg-Pingler Straße 26\, Königstein im Taunus\, 61462\, Deutschland
CATEGORIES:Basare und Flohmärkte
ATTACH;FMTTYPE=image/jpeg:https://www.taunus4family.de/wp-content/uploads/2024/10/iStock-Studio-Grand-Web.jpg
ORGANIZER;CN="Lions%20Club%20K%C3%B6nigstein-Burg%20e.V.":MAILTO:lions@lions-koenigstein-burg.de
GEO:50.1854775;8.4685711
X-APPLE-STRUCTURED-LOCATION;VALUE=URI;X-ADDRESS=Katholischen Gemeindezentrum Georg-Pingler Straße 26 Königstein im Taunus 61462 Deutschland;X-APPLE-RADIUS=500;X-TITLE=Georg-Pingler Straße 26:geo:8.4685711,50.1854775
END:VEVENT
END:VCALENDAR