BEGIN:VCALENDAR
VERSION:2.0
PRODID:-//taunus4family - ECPv5.14.1//NONSGML v1.0//EN
CALSCALE:GREGORIAN
METHOD:PUBLISH
X-WR-CALNAME:taunus4family
X-ORIGINAL-URL:https://www.taunus4family.de
X-WR-CALDESC:Veranstaltungen für taunus4family
BEGIN:VTIMEZONE
TZID:Europe/Helsinki
BEGIN:DAYLIGHT
TZOFFSETFROM:+0200
TZOFFSETTO:+0300
TZNAME:EEST
DTSTART:20240331T010000
END:DAYLIGHT
BEGIN:STANDARD
TZOFFSETFROM:+0300
TZOFFSETTO:+0200
TZNAME:EET
DTSTART:20241027T010000
END:STANDARD
END:VTIMEZONE
BEGIN:VEVENT
DTSTART;TZID=Europe/Helsinki:20240524T200000
DTEND;TZID=Europe/Helsinki:20240524T220000
DTSTAMP:20260422T132649
CREATED:20240410T183527Z
LAST-MODIFIED:20240410T183527Z
UID:47961-1716580800-1716588000@www.taunus4family.de
SUMMARY:"Love & Order" - Kabarett mit Max Beier
DESCRIPTION:Die Welt scheint aus den Fugen zu geraten\, geprägt von Habgier\, Hass und Scheidungsrichtern\, während globale Beziehungskrisen und erotische Konflikte den Weltfrieden bedrohen. \nWarum finden sich Liebende so selten als Paar? Was ist der Kern von Putins Politik? Ist die Ampel ein flotter Dreier oder einfach nur ein Verkehrshindernis? Wie viel Sinn ergibt sich aus einer Krise? \nDie organisierte Familienbandenkriminalität mag ein langes Wort sein\, aber sie ist ein ernstes Problem. \nDoch nun kommt die Rettung: Max Beier\, der Jäger des verlorenen Schatzes\, nimmt Herzensverbrecher und Liebestöter fest – kurz gesagt: Max Beier sorgt für Love & Order. \nEin Kabarettprogramm für all jene\, die nicht nur lachen wollen\, sondern auch ihre grauen Zellen anregen möchten. Max Beier lässt Ihre Synapsen tanzen und Ihr Zwerchfell platzen – intelligent\, virtuos\, rasant\, romantisch\, saukomisch\, äußerst beweglich und erstaunlich erbaulich. \nAlso nichts wie hin! Denn: Der Hahn mag tot sein\, aber es lebe das Huhn. Love and Order ist alles\, was du brauchst. \n  \nTickets ab 24\,00 €\nHier geht’s zu den Tickets!
URL:https://www.taunus4family.de/veranstaltung/love-order-kabarett-mit-max-beier/
LOCATION:thalhaus Theater\, Nerotal 18\, Wiesbaden\, 65193\, Deutschland
CATEGORIES:Theater und Bühnen
ATTACH;FMTTYPE=image/jpeg:https://www.taunus4family.de/wp-content/uploads/2024/04/Unbenannt-1.jpg
ORGANIZER;CN="thalhaus%20e.v.":MAILTO:verwaltung@thalhaus.de
GEO:50.0927254;8.2335428
X-APPLE-STRUCTURED-LOCATION;VALUE=URI;X-ADDRESS=thalhaus Theater Nerotal 18 Wiesbaden 65193 Deutschland;X-APPLE-RADIUS=500;X-TITLE=Nerotal 18:geo:8.2335428,50.0927254
END:VEVENT
END:VCALENDAR