BEGIN:VCALENDAR
VERSION:2.0
PRODID:-//taunus4family - ECPv5.14.1//NONSGML v1.0//EN
CALSCALE:GREGORIAN
METHOD:PUBLISH
X-WR-CALNAME:taunus4family
X-ORIGINAL-URL:https://www.taunus4family.de
X-WR-CALDESC:Veranstaltungen für taunus4family
BEGIN:VTIMEZONE
TZID:Europe/Helsinki
BEGIN:DAYLIGHT
TZOFFSETFROM:+0200
TZOFFSETTO:+0300
TZNAME:EEST
DTSTART:20240331T010000
END:DAYLIGHT
BEGIN:STANDARD
TZOFFSETFROM:+0300
TZOFFSETTO:+0200
TZNAME:EET
DTSTART:20241027T010000
END:STANDARD
END:VTIMEZONE
BEGIN:VEVENT
DTSTART;TZID=Europe/Helsinki:20240518T130000
DTEND;TZID=Europe/Helsinki:20240518T140000
DTSTAMP:20260422T115448
CREATED:20240506T174948Z
LAST-MODIFIED:20240506T174948Z
UID:48170-1716037200-1716040800@www.taunus4family.de
SUMMARY:Märchenstunde im Instituto Cervantes Frankfurt
DESCRIPTION:Kinder zwischen 5 und 8 Jahren sind zu dieser Entdeckungsreise eingeladen\, in der es um Themen geht\, die die Fantasie anregen und die Spanischkenntnisse der Kinder fördern. Pilar Fortea\, Lehrerin am Instituto Cervantes\, führt mit ihrer ganzen Erfahrung durch die Stunde. Yo mataré monstruos por ti (dt. Ich werde Monster für dich töten) von Santi Balmes ist ein Buch\, das hilft\, Ängste zu benennen und mit ihnen umzugehen. \nDie Veranstaltung findet auf spanisch statt. Um Reservierung wird gebeten unter: bibfra@cervantes.es\nEintritt frei
URL:https://www.taunus4family.de/veranstaltung/maerchenstunde-im-instituto-cervantes-frankfurt/
LOCATION:Bibliothek des Instituto Cervantes Frankfurt\, Staufenstr. 1\, Frankfurt am Main\, 60323
CATEGORIES:Kunst und Kultur
ATTACH;FMTTYPE=image/png:https://www.taunus4family.de/wp-content/uploads/2024/05/Instituto-Cervantes_MaerchenstundecAlejandraPlaza.png
ORGANIZER;CN="Instituto%20Cervantes%20Frankfurt":MAILTO:bibfra@cervantes.es
GEO:50.1193656;8.6702692
X-APPLE-STRUCTURED-LOCATION;VALUE=URI;X-ADDRESS=Bibliothek des Instituto Cervantes Frankfurt Staufenstr. 1 Frankfurt am Main 60323;X-APPLE-RADIUS=500;X-TITLE=Staufenstr. 1:geo:8.6702692,50.1193656
END:VEVENT
END:VCALENDAR