BEGIN:VCALENDAR
VERSION:2.0
PRODID:-//taunus4family - ECPv5.14.1//NONSGML v1.0//EN
CALSCALE:GREGORIAN
METHOD:PUBLISH
X-WR-CALNAME:taunus4family
X-ORIGINAL-URL:https://www.taunus4family.de
X-WR-CALDESC:Veranstaltungen für taunus4family
BEGIN:VTIMEZONE
TZID:Europe/Helsinki
BEGIN:DAYLIGHT
TZOFFSETFROM:+0200
TZOFFSETTO:+0300
TZNAME:EEST
DTSTART:20250330T010000
END:DAYLIGHT
BEGIN:STANDARD
TZOFFSETFROM:+0300
TZOFFSETTO:+0200
TZNAME:EET
DTSTART:20251026T010000
END:STANDARD
END:VTIMEZONE
BEGIN:VEVENT
DTSTART;VALUE=DATE:20250801
DTEND;VALUE=DATE:20250805
DTSTAMP:20260422T030517
CREATED:20250730T123829Z
LAST-MODIFIED:20250730T145607Z
UID:51609-1754006400-1754351999@www.taunus4family.de
SUMMARY:Mainfest 2025
DESCRIPTION:Herzschlag am Flussufer\nDas Mainfest in Frankfurt verwandelt die Ufer des Mains in einen lebendigen Treffpunkt für Familien und Besucher jeden Alters. Es ist eines der ältesten Frankfurter Volksfeste – seine Wurzeln gehen zurück auf das Jahr 1340\, dem Weihefest der Dreikönigskirche. \nHier treffen sich Tradition\, Unterhaltung und Genuss – und machen das Fest zu einem besonderen Erlebnis mitten in der Stadt. Ob nostalgische Fahrgeschäfte für die Kleinen\, regionale Köstlichkeiten für Genießer oder ein abwechslungsreiches Bühnenprogramm für Kulturfreunde – das Mainfest bietet für jeden etwas. Es ist ein Ort\, an dem Generationen gemeinsam feiern\, staunen und genießen können. \nEin besonderes Highlight ist das traditionelle Fischerstechen: Seit dem Mittelalter veranstalteten die Frankfurter Fischer einen Wettkampf auf dem Main. Der Sieger erhielt den besten Stand auf dem Markt. In historischen Kostümen liefern sich mutige Teilnehmer auf Booten einen spektakulären Wettkampf mit langen\, gepolsterten Stangen – ein spannendes Schauspiel\, das nicht nur Kinderaugen leuchten lässt. Am letzten Tag gibt es dann ein großes spektakuläres Feuerwerk um etwa 22:00 Uhr. Die besten Blickpunkte liegen entlang des Mains zwischen Eisernem Steg und Untermainbrücke. \nVor der Kulisse des Mains bietet das Mainfest ein besonderes Erlebnis und schafft gemeinsame Erinnerungen für die ganze Familie. \nÖffnungszeiten \nFreitag und Samstag\, 12.00 – 01.00 Uhr\nSonntag und Montag\, 12.00 – 24.00 Uhr
URL:https://www.taunus4family.de/veranstaltung/mainfest-2025/
CATEGORIES:Feste und Märkte
ATTACH;FMTTYPE=image/jpeg:https://www.taunus4family.de/wp-content/uploads/2025/07/visitfrankfurt.Holger-Ullmann.jpg
END:VEVENT
END:VCALENDAR