BEGIN:VCALENDAR
VERSION:2.0
PRODID:-//taunus4family - ECPv5.14.1//NONSGML v1.0//EN
CALSCALE:GREGORIAN
METHOD:PUBLISH
X-WR-CALNAME:taunus4family
X-ORIGINAL-URL:https://www.taunus4family.de
X-WR-CALDESC:Veranstaltungen für taunus4family
BEGIN:VTIMEZONE
TZID:Europe/Helsinki
BEGIN:DAYLIGHT
TZOFFSETFROM:+0200
TZOFFSETTO:+0300
TZNAME:EEST
DTSTART:20240331T010000
END:DAYLIGHT
BEGIN:STANDARD
TZOFFSETFROM:+0300
TZOFFSETTO:+0200
TZNAME:EET
DTSTART:20241027T010000
END:STANDARD
END:VTIMEZONE
BEGIN:VEVENT
DTSTART;VALUE=DATE:20241025
DTEND;VALUE=DATE:20241028
DTSTAMP:20260422T171248
CREATED:20241017T082616Z
LAST-MODIFIED:20241017T085034Z
UID:49437-1729814400-1730073599@www.taunus4family.de
SUMMARY:Mainova - Struwwelpeter-Lauf und Mini-Marathon 2024
DESCRIPTION:Der Mainova Frankfurt Marathon ist der älteste City Marathon Deutschlands und der Drittschnellste der Welt\nZum Frankfurter Marathon treten nicht nur Profiläufer an\, sondern auch viele Freizeitsportler. Mit etwa 14.000 Anmeldungen für die Marathondistanz rechnen die Veranstalter dieses Jahr. \nNeben dem Hauptlauf gibt es einen Staffel-Marathon\, einen Mini-Marathon (Sonntag\, 26.10.2024) und den Struwwelpeter-Lauf für Kinder (Samstag\, 27.10.2024). Ganz so viele Teilnehmer werden es bei den Kinderläufen nicht. Doch auch diese Rennen werden immer beliebter. Zwei Strecken sind im Angebot: \nStruwwelpeter-Lauf\, 26.10. um 11:30 Uhr\nDer sogenannte Struwwelpeter-Lauf richtet sich an die Kleinsten\, an Kinder der Jahrgänge 2015-2019\, die eine Strecke von 420 m bewältigen müssen und sich dabei vom Publikum feiern lassen können. Das Rennen auf der 420 Meter langen Strecke läuft auf dem Messegelände\, die Kinder starten getrennt von 11:30 Uhr an\, Eltern und Großeltern stehen an der Strecke und feuern die Kleinen an. Am Ende bekommt jeder Läufer ein Laufshirt und eine Urkunde überreicht. Nutzt die Gelegenheit und meldet euch jetzt kostenfrei bis 20.10.24 für den Struwwelpeter-Lauf an! Online Anmeldung \nMini-Marathon\, 27.10. um 11:50 Uhr am Messeturm\nDer Mini-Marathon ist 4\,2 Kilometer lang und gibt Kindern und Jugendlichen der Jahrgänge 2007 bis 2016 bei dem Lauf über 4\,2 km die Chance\, wie die Großen die einmalige Gänsehautatmosphäre des Zieleinlaufs in die Frankfurter Festhalle zu erleben. Gestartet wird der Mini-Marathon um 10:55 Uhr auf der Friedrich-Ebert-Anlage und führt\, wie bei den Großen\, auf gesperrten Straßen durch die Frankfurter Innenstadt\, am Streckenrand stehen Zuschauer und Musikgruppen\, die für Stimmung sorgen. Auch für den Mini-Marathon kann man sich bis 20.10.24 anmelden unter Online Anmeldung \nWer den Termin verpasst\, hat aber die Chance\, sich noch am 25.10. von 12 bis 19 Uhr oder am 26.10. von 10 bis 19 Uhr in der Messehalle 1 nachzumelden. Die Startgebühr liegt bei 12 EUR. Dafür bekommt jeder Teilnehmer einen Beutel mit Geschenken\, eine Verpflegungstasche und beim Einlauf in die Festhalle eine Medaille. \n  \n 
URL:https://www.taunus4family.de/veranstaltung/mainova-struwwelpeter-lauf-und-mini-marathon-2024/
LOCATION:Friedrich-Ebert-Anlage\, Friedrich-Ebert-Anlage\, Frankfurt am Main\, 60327\, Deutschland
CATEGORIES:Sport und Bewegung
ATTACH;FMTTYPE=image/jpeg:https://www.taunus4family.de/wp-content/uploads/2017/09/Mainova-Frankfurt-Marathon_Struwwelpeterlauf-scaled.jpg
ORGANIZER;CN="motion%20events%20GmbH":MAILTO:mail@frankfurt-marathon.com
GEO:50.1115851;8.6568404
X-APPLE-STRUCTURED-LOCATION;VALUE=URI;X-ADDRESS=Friedrich-Ebert-Anlage Friedrich-Ebert-Anlage Frankfurt am Main 60327 Deutschland;X-APPLE-RADIUS=500;X-TITLE=Friedrich-Ebert-Anlage:geo:8.6568404,50.1115851
END:VEVENT
END:VCALENDAR