BEGIN:VCALENDAR
VERSION:2.0
PRODID:-//taunus4family - ECPv5.14.1//NONSGML v1.0//EN
CALSCALE:GREGORIAN
METHOD:PUBLISH
X-WR-CALNAME:taunus4family
X-ORIGINAL-URL:https://www.taunus4family.de
X-WR-CALDESC:Veranstaltungen für taunus4family
BEGIN:VTIMEZONE
TZID:Europe/Helsinki
BEGIN:DAYLIGHT
TZOFFSETFROM:+0200
TZOFFSETTO:+0300
TZNAME:EEST
DTSTART:20240331T010000
END:DAYLIGHT
BEGIN:STANDARD
TZOFFSETFROM:+0300
TZOFFSETTO:+0200
TZNAME:EET
DTSTART:20241027T010000
END:STANDARD
END:VTIMEZONE
BEGIN:VEVENT
DTSTART;TZID=Europe/Helsinki:20241103T110000
DTEND;TZID=Europe/Helsinki:20241103T140000
DTSTAMP:20260423T160310
CREATED:20241101T160852Z
LAST-MODIFIED:20241101T160852Z
UID:49565-1730631600-1730642400@www.taunus4family.de
SUMMARY:MBK Kinderflohmarkt 👶🏻👧🏼🧒🏻
DESCRIPTION:🎈unser großer MBK Winter- Flohmarkt rund ums Kind\, Baby und Schwangerschaft findet wie jedes Jahr in der Hasselgrundhalle statt. An über 70 Ständen laden euch unsere Selbstverkäufer zum Stöbern\, Verhandeln und Kaufen ein. Neben leckeren selbstgemachten Kuchen\, kalten und warmen Getränken sorgen wir erneut mit Kinderunterhaltung für strahlende Kinderaugen 🎈
URL:https://www.taunus4family.de/veranstaltung/mbk-kinderflohmarkt-%f0%9f%91%b6%f0%9f%8f%bb%f0%9f%91%a7%f0%9f%8f%bc%f0%9f%a7%92%f0%9f%8f%bb/
LOCATION:Hasselgrundhalle Bad Soden\, Gartenstraße 2a\, Bad Soden am Taunus\, 65812\, Deutschland
CATEGORIES:Basare und Flohmärkte
ATTACH;FMTTYPE=image/jpeg:https://www.taunus4family.de/wp-content/uploads/2024/11/IMG_8897.jpeg
ORGANIZER;CN="F%26ouml%3Brderverein%20Max-Baginski%20Kita%20und%20Hort":MAILTO:Flohmarkt-MBK@gmx.de
GEO:50.1407762;8.5021469
X-APPLE-STRUCTURED-LOCATION;VALUE=URI;X-ADDRESS=Hasselgrundhalle Bad Soden Gartenstraße 2a Bad Soden am Taunus 65812 Deutschland;X-APPLE-RADIUS=500;X-TITLE=Gartenstraße 2a:geo:8.5021469,50.1407762
END:VEVENT
END:VCALENDAR