BEGIN:VCALENDAR
VERSION:2.0
PRODID:-//taunus4family - ECPv5.14.1//NONSGML v1.0//EN
CALSCALE:GREGORIAN
METHOD:PUBLISH
X-WR-CALNAME:taunus4family
X-ORIGINAL-URL:https://www.taunus4family.de
X-WR-CALDESC:Veranstaltungen für taunus4family
BEGIN:VTIMEZONE
TZID:Europe/Helsinki
BEGIN:DAYLIGHT
TZOFFSETFROM:+0200
TZOFFSETTO:+0300
TZNAME:EEST
DTSTART:20240331T010000
END:DAYLIGHT
BEGIN:STANDARD
TZOFFSETFROM:+0300
TZOFFSETTO:+0200
TZNAME:EET
DTSTART:20241027T010000
END:STANDARD
END:VTIMEZONE
BEGIN:VEVENT
DTSTART;VALUE=DATE:20241019
DTEND;VALUE=DATE:20241111
DTSTAMP:20260420T094724
CREATED:20241102T135256Z
LAST-MODIFIED:20241102T135256Z
UID:49573-1729296000-1731283199@www.taunus4family.de
SUMMARY:Mendelssohn Tage der Musik 2024
DESCRIPTION:Mit einem großartigen Programm locken die 19. Mendelssohn Tage der Musik vom 19. Oktober bis 10. November wieder alle Musikbegeisterten nach Bad Soden am Taunus. \nNeben Konzerten stehen auch Stadtführungen und Kinovorstellungen auf dem Programm. Karten für alle Veranstaltungen sind ab dem 02. September 2024 im Genuss-Kontor\, Platz Rueil-Malmaison 2 und online unter www.musikstiftung.de erhältlich. \nFür Kinder fliegt „Mary Poppins“ in der Walt-Disney Produktion von 1964 am 7. November über die Leinwand im Kino CasaBlanca. \nMehr Info zum Programm hier!
URL:https://www.taunus4family.de/veranstaltung/mendelssohn-tage-der-musik-2024/
LOCATION:Stadt Bad Soden\, Königsteiner Straße 73\, Bad Soden\, 65812\, Deutschland
CATEGORIES:Kunst und Kultur,Musik und Konzerte
ORGANIZER;CN="Bad%20Sodener%20Musikstiftung%20J%C3%BCrgen%20Frei":MAILTO:info@musikstiftung.de
GEO:50.14409;8.50125
X-APPLE-STRUCTURED-LOCATION;VALUE=URI;X-ADDRESS=Stadt Bad Soden Königsteiner Straße 73 Bad Soden 65812 Deutschland;X-APPLE-RADIUS=500;X-TITLE=Königsteiner Straße 73:geo:8.50125,50.14409
END:VEVENT
END:VCALENDAR