BEGIN:VCALENDAR
VERSION:2.0
PRODID:-//taunus4family - ECPv5.14.1//NONSGML v1.0//EN
CALSCALE:GREGORIAN
METHOD:PUBLISH
X-WR-CALNAME:taunus4family
X-ORIGINAL-URL:https://www.taunus4family.de
X-WR-CALDESC:Veranstaltungen für taunus4family
BEGIN:VTIMEZONE
TZID:Europe/Helsinki
BEGIN:DAYLIGHT
TZOFFSETFROM:+0200
TZOFFSETTO:+0300
TZNAME:EEST
DTSTART:20260329T010000
END:DAYLIGHT
BEGIN:STANDARD
TZOFFSETFROM:+0300
TZOFFSETTO:+0200
TZNAME:EET
DTSTART:20261025T010000
END:STANDARD
END:VTIMEZONE
BEGIN:VEVENT
DTSTART;TZID=Europe/Helsinki:20260419T182648
DTEND;TZID=Europe/Helsinki:20260419T182648
DTSTAMP:20260419T192648
CREATED:20251220T140117Z
LAST-MODIFIED:20251220T145711Z
UID:52832-1776623208-1776623208@www.taunus4family.de
SUMMARY:Mitmach- und Bau-Ausstellung rund um LEGO und andere Bauspielkästen
DESCRIPTION:Tausend bunte Steine\nIm Deutschen Architekturmuseum (DAM) Frankfurt dreht sich vom 25. Oktober 2025 bis zum 8. Februar 2026 alles um das spielerische Entdecken von Architektur. Die Ausstellung „Architekturbaukästen. Die große Mitspielausstellung“ lädt Kinder\, Familien und Erwachsene dazu ein\, selbst aktiv zu werden. An mehreren interaktiven Stationen können Besucher mit Baukästen – darunter auch LEGO®-ähnliche Klemmbausteine – eigene Gebäude entwerfen und konstruieren. Ergänzt wird das Mitmach-Angebot durch eine sehenswerte Sammlung historischer Architektur-Baukästen aus dem Zeitraum von 1890 bis 1990. Die Ausstellung zeigt anschaulich\, wie Bauen\, Gestalten und räumliches Denken generationsübergreifend vermittelt werden können. Das DAM am Schaumainkai bietet damit ein ideales Ausflugsziel für Familien\, Schulklassen und alle\, die Architektur einmal ganz praktisch erleben möchten. \n  \nÖffnungszeiten • Dienstag\, Donnerstag\, Freitag\, Samstag\, Sonntag: 11:00 – 18:00 Uhr• Mittwoch: 11:00 – 20:00 Uhr• Montag: geschlossen• Feiertage: in der Regel 11:00 – 18:00 Uhr (geschlossen am 24. & 25. Dezember sowie 1. Januar) dam-online.de \nEintrittspreise • Erwachsene: 12 €• Ermäßigt: 7 € (z. B. für Studierende und andere Vergünstigte)• STADTPlus: 10 € / ermäßigt 7 €• Vorträge: 7 € / ermäßigt 4 €• Freier Eintritt für Kinder und Jugendliche unter 18 Jahren sowie Inhaber bestimmter Museum- und Vorteilskarten (z. B. Museumsufer-Card) \nMehr Info hier!
URL:https://www.taunus4family.de/veranstaltung/mitmach-und-bau-ausstellung-rund-um-lego-und-andere-baukaesten/
LOCATION:Deutsches Architekturmuseum (DAM)\, Schaumainkai 43\, Frankfurt am Main\, 60596\, Deutschland
CATEGORIES:Freizeit
ATTACH;FMTTYPE=image/jpeg:https://www.taunus4family.de/wp-content/uploads/2025/07/iStock-Alberto-Gagliardi.jpg
ORGANIZER;CN="Deutsches%20Architekturmuseum%20%28DAM%29":MAILTO:peter.schmal@stadt-frankfurt.de
GEO:50.105076;8.6768825
X-APPLE-STRUCTURED-LOCATION;VALUE=URI;X-ADDRESS=Deutsches Architekturmuseum (DAM) Schaumainkai 43 Frankfurt am Main 60596 Deutschland;X-APPLE-RADIUS=500;X-TITLE=Schaumainkai 43:geo:8.6768825,50.105076
END:VEVENT
END:VCALENDAR