BEGIN:VCALENDAR
VERSION:2.0
PRODID:-//taunus4family - ECPv5.14.1//NONSGML v1.0//EN
CALSCALE:GREGORIAN
METHOD:PUBLISH
X-WR-CALNAME:taunus4family
X-ORIGINAL-URL:https://www.taunus4family.de
X-WR-CALDESC:Veranstaltungen für taunus4family
BEGIN:VTIMEZONE
TZID:Europe/Helsinki
BEGIN:DAYLIGHT
TZOFFSETFROM:+0200
TZOFFSETTO:+0300
TZNAME:EEST
DTSTART:20240331T010000
END:DAYLIGHT
BEGIN:STANDARD
TZOFFSETFROM:+0300
TZOFFSETTO:+0200
TZNAME:EET
DTSTART:20241027T010000
END:STANDARD
END:VTIMEZONE
BEGIN:VEVENT
DTSTART;TZID=Europe/Helsinki:20240511T104500
DTEND;TZID=Europe/Helsinki:20240511T121500
DTSTAMP:20260420T081956
CREATED:20240503T115437Z
LAST-MODIFIED:20240503T120029Z
UID:48149-1715424300-1715429700@www.taunus4family.de
SUMMARY:Mitmachmärchen "Der gestiefelte Kater" auf der Burg Kronberg
DESCRIPTION:…oder warum ein Kater erster Minister wurde\nEines Müllers Sohn erbte nach dem Tod seines Vaters einen Kater\, mit dem er nichts anzufangen wusste. „Hör!“ fing der Kater an\, der alles verstanden hatte. „Lass mir ein paar Stiefel machen\, dann soll dir bald geholfen sein!“\nUnser Märchen erzählt von den Abenteuern der beiden. Weshalb der Sohn am Ende die Prinzessin heiratete und König wurde und weshalb der Kater sein erster Minister\, wollen wir auf unserer Burg mit Spiel und Tanz erleben. \nDie Veranstaltung ist für Kinder von 5-8 Jahren ohne Eltern gedacht\, der Eintritt kostet 10 Euro. Die Anmeldung ist unter kinder@burgkronberg.de möglich.
URL:https://www.taunus4family.de/veranstaltung/mitmachmaerchen-der-gestiefelte-kater-auf-der-burg-kronberg/
LOCATION:Burg Kronberg\, Schlossstraße 10/12\, Kronberg im Taunus\, 61476\, Deutschland
CATEGORIES:Theater und Bühnen
ATTACH;FMTTYPE=image/jpeg:https://www.taunus4family.de/wp-content/uploads/2024/05/burg.jpg
ORGANIZER;CN="Stiftung%20Burg%20Kronberg%20im%20Taunus":MAILTO:stiftung@burgkronberg.de
GEO:50.18119;8.50723
X-APPLE-STRUCTURED-LOCATION;VALUE=URI;X-ADDRESS=Burg Kronberg Schlossstraße 10/12 Kronberg im Taunus 61476 Deutschland;X-APPLE-RADIUS=500;X-TITLE=Schlossstraße 10/12:geo:8.50723,50.18119
END:VEVENT
END:VCALENDAR