BEGIN:VCALENDAR
VERSION:2.0
PRODID:-//taunus4family - ECPv5.14.1//NONSGML v1.0//EN
CALSCALE:GREGORIAN
METHOD:PUBLISH
X-WR-CALNAME:taunus4family
X-ORIGINAL-URL:https://www.taunus4family.de
X-WR-CALDESC:Veranstaltungen für taunus4family
BEGIN:VTIMEZONE
TZID:Europe/Helsinki
BEGIN:DAYLIGHT
TZOFFSETFROM:+0200
TZOFFSETTO:+0300
TZNAME:EEST
DTSTART:20240331T010000
END:DAYLIGHT
BEGIN:STANDARD
TZOFFSETFROM:+0300
TZOFFSETTO:+0200
TZNAME:EET
DTSTART:20241027T010000
END:STANDARD
END:VTIMEZONE
BEGIN:VEVENT
DTSTART;TZID=Europe/Helsinki:20240309T103000
DTEND;TZID=Europe/Helsinki:20240309T130000
DTSTAMP:20260424T191745
CREATED:20240127T075030Z
LAST-MODIFIED:20240127T075030Z
UID:47105-1709980200-1709989200@www.taunus4family.de
SUMMARY:Mothers Corner Bazaar
DESCRIPTION:Kinder- und Teensbasar für gut erhaltene Baby- und Kindermarkenbekleidung bis 12 Jahre\, sowie Teens bis 18 Jahre. Schuhe\, Spielsachen\, Bücher (englisch und deutsch)\, Gesellschaftsspiele und Zubehör rund ums Baby/ Kind. \nDer Eintritt beträgt 50 Cent (wird für wohltätige Zwecke gespendet). Große Kuchenauswahl\, auch zum mitnehmen (diese Einnahmen werden ebenfalls gespendet). Bitte beachten: Kinderwagen dürfen aus Brandschutzgründen nicht mit in das Gebäude genommen werden.
URL:https://www.taunus4family.de/veranstaltung/mothers-corner-bazaar/
LOCATION:Bürgerhaus Kirdorf\, Stedter Weg 40\, Bad Homburg\, 61350
CATEGORIES:Basare und Flohmärkte
ATTACH;FMTTYPE=image/jpeg:https://www.taunus4family.de/wp-content/uploads/2024/01/Spring-2024-Poster.jpg
GEO:50.2402855;8.6040023
X-APPLE-STRUCTURED-LOCATION;VALUE=URI;X-ADDRESS=Bürgerhaus Kirdorf Stedter Weg 40 Bad Homburg 61350;X-APPLE-RADIUS=500;X-TITLE=Stedter Weg 40:geo:8.6040023,50.2402855
END:VEVENT
END:VCALENDAR