BEGIN:VCALENDAR
VERSION:2.0
PRODID:-//taunus4family - ECPv5.14.1//NONSGML v1.0//EN
CALSCALE:GREGORIAN
METHOD:PUBLISH
X-WR-CALNAME:taunus4family
X-ORIGINAL-URL:https://www.taunus4family.de
X-WR-CALDESC:Veranstaltungen für taunus4family
BEGIN:VTIMEZONE
TZID:Europe/Helsinki
BEGIN:DAYLIGHT
TZOFFSETFROM:+0200
TZOFFSETTO:+0300
TZNAME:EEST
DTSTART:20250330T010000
END:DAYLIGHT
BEGIN:STANDARD
TZOFFSETFROM:+0300
TZOFFSETTO:+0200
TZNAME:EET
DTSTART:20251026T010000
END:STANDARD
END:VTIMEZONE
BEGIN:VEVENT
DTSTART;VALUE=DATE:20250829
DTEND;VALUE=DATE:20250901
DTSTAMP:20260421T202016
CREATED:20250822T080250Z
LAST-MODIFIED:20250822T080922Z
UID:51860-1756425600-1756684799@www.taunus4family.de
SUMMARY:Museumsuferfest in Frankfurt 2025
DESCRIPTION:Das Museumsuferfest hat seine Wurzeln in den 1980er Jahren\, als die Stadt Frankfurt beschloss\, die besondere Lage der Museen am Main stärker ins öffentliche Bewusstsein zu rücken. Ziel war es\, die kulturelle Bedeutung dieser Institutionen hervorzuheben und gleichzeitig Frankfurt als attraktives Reiseziel zu positionieren. Aus dieser Vision entstand ein Festival\, das bis heute Kunst\, Kultur und Gemeinschaft in einzigartiger Weise miteinander verbindet. \nKultur und Lebensfreude am Mainufer\nFrankfurt feiert vom 29. bis 31. August 2025 wieder eines der größten Kulturfestivals Europas: das Museumsuferfest. Drei Tage lang verwandelt sich die Stadt am Main in ein lebendiges Kultur- und Begegnungszentrum\, das jährlich rund eine Million Besucher anzieht. Entlang des Flussufers und auf dem Römerberg erwartet die Gäste ein vielfältiges Programm mit Ausstellungen der städtischen Museen\, inspirierenden Bühnenproduktionen\, Projekten und Inszenierungen – ein Fest\, bei dem Kunst\, Kultur und die Leichtigkeit des Seins miteinander verschmelzen. \nOb tagsüber beim Entdecken der Museen\, beim Flanieren zwischen den Ständen oder abends bei Live-Musik und Performances: Das Museumsuferfest bietet für alle Generationen ein einzigartiges Erlebnis. Der krönende Höhepunkt des Festes ist ein spektakuläres Musikfeuerwerk\, das zwischen Holbeinsteg und Untermainbrücke mit tausenden Lichtern die Frankfurter Skyline in ein funkelndes Meer verwandelt. \nEin Wochenende voller Entdeckungen\, Begegnungen und unvergesslicher Momente – das Museumsuferfest macht Frankfurt zum kulturellen Herz Europas. \n\n\nHier geht’s zum Programm! \nÖffnungszeiten \n\n\n\n\n\n\nFreitag\, 29.08.2025 von 15.00 – 01.00 Uhr\, Ende Musikprogramm 00.00 Uhr\nSamstag\, 30.08.2025 von 11.00 – 01.00 Uhr\, Ende Musikprogramm 00.00 Uhr\nSonntag\, 31.08.2025 von  11.00 – 24.00 Uhr\, Ende Musikprogramm 22.00 Uhr
URL:https://www.taunus4family.de/veranstaltung/museumsuferfest-in-frankfurt-2025/
LOCATION:Nördlichen und südlichen Mainufer\, Frankfurt am Main\, 60596\, Deutschland
CATEGORIES:Feste und Märkte
ATTACH;FMTTYPE=image/jpeg:https://www.taunus4family.de/wp-content/uploads/2025/08/Screenshot-2025-08-22-100137.jpg
ORGANIZER;CN="Stadt%20Frankfurt%20am%20Main":MAILTO:robert.lange.frankfurt@t-online.de
END:VEVENT
END:VCALENDAR