BEGIN:VCALENDAR
VERSION:2.0
PRODID:-//taunus4family - ECPv5.14.1//NONSGML v1.0//EN
CALSCALE:GREGORIAN
METHOD:PUBLISH
X-WR-CALNAME:taunus4family
X-ORIGINAL-URL:https://www.taunus4family.de
X-WR-CALDESC:Veranstaltungen für taunus4family
BEGIN:VTIMEZONE
TZID:Europe/Helsinki
BEGIN:DAYLIGHT
TZOFFSETFROM:+0200
TZOFFSETTO:+0300
TZNAME:EEST
DTSTART:20250330T010000
END:DAYLIGHT
BEGIN:STANDARD
TZOFFSETFROM:+0300
TZOFFSETTO:+0200
TZNAME:EET
DTSTART:20251026T010000
END:STANDARD
END:VTIMEZONE
BEGIN:VEVENT
DTSTART;VALUE=DATE:20250321
DTEND;VALUE=DATE:20250322
DTSTAMP:20260424T131402
CREATED:20241005T160836Z
LAST-MODIFIED:20241204T203625Z
UID:49360-1742515200-1742601599@www.taunus4family.de
SUMMARY:Music Discovery Project 2025
DESCRIPTION:Die Begegnung unterschiedlicher musikalischer Sphären prägt das Music Discovery Project\, das alljährlich die Jahrhunderthalle zum Klingen bringt und sein Publikum seit 15 Jahren kontinuierlich mit neuer Begeisterung erfüllt. \nJugendliche und klassische Musik? Auf jeden Fall!\nVor 18 Jahren entstand das „Music Discovery Project“ des hr-Sinfonieorchesters mit der Frage: Wie bringt man Menschen unter 20 dazu\, klassische Konzerte zu erleben? Die Antwort: Man taucht in ihre Pop- oder Technowelt ein und führt sie behutsam zu einem klassischen Meisterwerk! \nSeit mehr als einem Jahrzehnt schafft das Music Discovery Projekt eine Schnittstelle zwischen unterschiedlichen musikalischen Welten. Klassik trifft auf Pop\, Orchester verschmilzt mit Electronic Music\, und gemeinsam bilden sie eine harmonische sinfonische Einheit. Diese Zusammenführung verschiedener musikalischer Sphären bleibt das unverkennbare Kennzeichen des Music Discovery Projects. Hier kann das Publikum immer wieder ungewöhnliche Kontraste und faszinierende Mischungen zwischen Klassik und Pop\, Orchester und Elektronik in immer neuen Facetten erleben. \nÜberraschungsgast\n\nDas Music Discovery Project bringt musikalische Welten zusammen – ein einzigartiges Event\, das einmal im Jahr die Jahrhunderthalle in eine Bühne für überraschende Begegnungen verwandelt. Klassik trifft auf Pop\, Orchester verschmilzt mit Elektronik – und mittendrin: das hr-Sinfonieorchester und spannende Special Guests. Dieses Jahr dabei: ClockClock. \nHinter ClockClock steht ein kreatives Trio: der Singer/Songwriter Boki sowie die Produzenten Mark und Feezy. Gemeinsam schaffen sie die unverwechselbaren Songs und energiegeladenen Sounds der Mannheimer Band. Ihre musikalische Reise begann vor sieben Jahren bei einer Jam-Session in der Pfalz und führte sie bis 2023 zu gleich drei Nummer-Eins-Hits in den deutschen Radiocharts mit »Sorry«\, »Someone Else« und »Over«. Nach ihrer ersten ausverkauften Tour »Dreamers« und Auftritten mit Größen wie P!NK\, SIMPLY RED und One Republic hat ClockClock 2024 Mut und Inspiration verbreitet – und gezeigt\, wie wichtig es ist\, mit den richtigen Menschen für seine Träume zu kämpfen. \nIm Rahmen des Music Discovery Projects nimmt ClockClock gemeinsam mit dem hr-Sinfonieorchester das Publikum mit auf eine besondere »AusZeit«. Die packenden Songs der Band treffen auf orchestrale Klangwelten und intensive sinfonische Momente. Diese einzigartige Verbindung eröffnet Raum und Zeit für Träume und schafft einen Abend voller Emotionen\, der Herz und Seele gleichermaßen berührt. \nKonzertdauer: ca. 120 Minuten – keine Pause. \n  \nWeiterer Termin\nSamstag\, 22. März 2025 um 20 Uhr \n  \n\nTickets: 52\,– € | 42\,– € | 30\,– €\nErmäßigt: 40\,– | 32\,– € | 23\,– € \nDie ermäßigten Preise gelten für Schüler*innen\, Studierende\, Auszubildende bis 27 Jahre und für Menschen mit Behinderung ab GdB 80. \nMehr Info und Tickets hier! \n 
URL:https://www.taunus4family.de/veranstaltung/music-discovery-project-2025/
LOCATION:myticket Jahrhunderthalle Frankfurt\, Pfaffenwiese 301\, Frankfurt am Main\, 65929\, Deutschland
CATEGORIES:Musik und Konzerte
ATTACH;FMTTYPE=image/jpeg:https://www.taunus4family.de/wp-content/uploads/2024/10/iStock-bluebay2014.jpg
ORGANIZER;CN="Hessischer%20Rundfunk":MAILTO:hzs@hr.de
GEO:50.09914;8.51972
X-APPLE-STRUCTURED-LOCATION;VALUE=URI;X-ADDRESS=myticket Jahrhunderthalle Frankfurt Pfaffenwiese 301 Frankfurt am Main 65929 Deutschland;X-APPLE-RADIUS=500;X-TITLE=Pfaffenwiese 301:geo:8.51972,50.09914
END:VEVENT
END:VCALENDAR