BEGIN:VCALENDAR
VERSION:2.0
PRODID:-//taunus4family - ECPv5.14.1//NONSGML v1.0//EN
CALSCALE:GREGORIAN
METHOD:PUBLISH
X-WR-CALNAME:taunus4family
X-ORIGINAL-URL:https://www.taunus4family.de
X-WR-CALDESC:Veranstaltungen für taunus4family
BEGIN:VTIMEZONE
TZID:Europe/Helsinki
BEGIN:DAYLIGHT
TZOFFSETFROM:+0200
TZOFFSETTO:+0300
TZNAME:EEST
DTSTART:20250330T010000
END:DAYLIGHT
BEGIN:STANDARD
TZOFFSETFROM:+0300
TZOFFSETTO:+0200
TZNAME:EET
DTSTART:20251026T010000
END:STANDARD
END:VTIMEZONE
BEGIN:VEVENT
DTSTART;TZID=Europe/Helsinki:20250613T190000
DTEND;TZID=Europe/Helsinki:20250613T200000
DTSTAMP:20260420T043123
CREATED:20250605T161015Z
LAST-MODIFIED:20250605T161542Z
UID:51199-1749841200-1749844800@www.taunus4family.de
SUMMARY:Öffentliche Führung im Opel-Zoo:  Der Zoo am Abend
DESCRIPTION:Die Kassen im Opel-Zoo sind in den Sommermonaten täglich von 9 bis 19 Uhr für Besucher geöffnet. Doch was geschieht im Zoo\, wenn die Kassen schließen\, nur noch wenige Gäste das Gelände besuchen und die letzten Mitarbeiter ihren wohlverdienten Feierabend antreten? \nDer Zoo am Abend\nBei der kommenden öffentlichen Führung erhalten die Teilnehmer spannende Einblicke in das Leben des Zoos nach Einbruch der Dunkelheit:Welche Tiere werden nachts in ihre Ställe gebracht\, welche bleiben in den Außenanlagen? Verändert sich ihr Verhalten im Vergleich zum Tagesbetrieb mit Besuchern? Welche Arten sind dämmerungs- oder nachtaktiv und werden nun besonders aktiv? Wie und wie lange ruhen die Tiere? Und können sie im Dunkeln noch etwas wahrnehmen? \nDiese und weitere Fragen beantwortet die öffentliche Führung „Der Zoo am Abend“.Sie findet am Freitag\, den 13. Juni 2025\, um 19 Uhr – also unmittelbar zum Kassenschluss – statt und beginnt an der Statue des Zoogründers hinter dem Haupteingang. Die Teilnahme ist kostenfrei\, es fällt kein Zuschlag zum Eintrittspreis an\, und eine Anmeldung ist nicht erforderlich. \nDer Opel-Zoo verfügt über mehr als 1.200 kostenfreie Parkplätze und ist gut mit dem ÖPNV erreichbar: Buslinien 261\, X26 und X27. \n\n\n\n\n\n\nEintrittspreise\n\n\nErwachsene: 17\,00 €\nErwachsene (ermäßigt): 16\,00 €\nKinder: 9\,50 €\nKinder (ermäßigt): 8\,50 €
URL:https://www.taunus4family.de/veranstaltung/oeffentliche-fuehrung-im-opel-der-zoo-am-abend/
LOCATION:Opel-Zoo\, Deutschland
CATEGORIES:Natur und Tiere
ATTACH;FMTTYPE=image/jpeg:https://www.taunus4family.de/wp-content/uploads/2025/06/25-Europaeischer-Nerz-003.jpg
ORGANIZER;CN="OPEL-ZOO%20Georg%20von%20Opel%20-%20Freigehege%20f%C3%BCr%20Tierforschung":MAILTO:info@opel-zoo.de
GEO:51.165691;10.451526
END:VEVENT
END:VCALENDAR