BEGIN:VCALENDAR
VERSION:2.0
PRODID:-//taunus4family - ECPv5.14.1//NONSGML v1.0//EN
CALSCALE:GREGORIAN
METHOD:PUBLISH
X-WR-CALNAME:taunus4family
X-ORIGINAL-URL:https://www.taunus4family.de
X-WR-CALDESC:Veranstaltungen für taunus4family
BEGIN:VTIMEZONE
TZID:Europe/Helsinki
BEGIN:DAYLIGHT
TZOFFSETFROM:+0200
TZOFFSETTO:+0300
TZNAME:EEST
DTSTART:20250330T010000
END:DAYLIGHT
BEGIN:STANDARD
TZOFFSETFROM:+0300
TZOFFSETTO:+0200
TZNAME:EET
DTSTART:20251026T010000
END:STANDARD
END:VTIMEZONE
BEGIN:VEVENT
DTSTART;TZID=Europe/Helsinki:20250426T150000
DTEND;TZID=Europe/Helsinki:20250426T160000
DTSTAMP:20260422T035452
CREATED:20250422T140806Z
LAST-MODIFIED:20250422T141613Z
UID:50852-1745679600-1745683200@www.taunus4family.de
SUMMARY:Öffentliche Führung im Opel-Zoo - „Die Schule hat wieder begonnen – Wie lernen Tiere?"
DESCRIPTION:Die hessischen Osterferien sind vorbei und die Schule hat wieder begonnen. Die nächste Öffentliche Führung im Opel-Zoo beschäftigt sich mit der Frage\, wie Tiere lernen. Dass Tiere keine Bücher haben\, keine Klassenausflüge machen und auch keine Ferien haben\, liegt auf der Hand.\nWie aber und was lernen sie oder müssen sie lernen\, um als erwachsene Tiere in der Natur bestehen und überleben zu können. Welche Nahrung benötigen sie\, wo und wie finden sie diese\, wie schützen sie sich vor Feinden und wie verhalten sie sich bei der Suche nach einem Partner. Lernen sie alleine oder gibt es auch bei ihnen einen Klassenverband\, wer sind ihre Lehrer und wie schnell müssen sie das Erlernte anwenden? \nDiesen und weiteren Fragen geht die Öffentliche Führung nach\, die am Samstag\, dem 26. April 2025 um 15 Uhr an der Statue des Zoogründers hinter dem Haupteingang startet. Sie ist kostenfrei\, ohne Zuschlag zum Eintrittspreis und eine Voranmeldung ist nicht erforderlich. \nDie Kassen im Opel-Zoo sind täglich von 9 bis 17 Uhr geöffnet. Die Besucher können bis Einbruch der Dunkelheit auf dem Zoogelände bleiben. Der Opel-Zoo verfügt über mehr als 1.200 kostenfreie Parkplätze und ist gut mit dem ÖPNV erreichbar: Buslinien 261\, X26 und X27.
URL:https://www.taunus4family.de/veranstaltung/oeffentliche-fuehrung-im-opel-zoo-die-schule-hat-wieder-begonnen-wie-lernen-tiere/
LOCATION:Opel-Zoo\, Deutschland
CATEGORIES:Natur und Tiere
ATTACH;FMTTYPE=image/jpeg:https://www.taunus4family.de/wp-content/uploads/2025/04/17-Europaeisches-Mufflon-juv.jpg
ORGANIZER;CN="OPEL-ZOO%20Georg%20von%20Opel%20-%20Freigehege%20f%C3%BCr%20Tierforschung":MAILTO:info@opel-zoo.de
GEO:51.165691;10.451526
END:VEVENT
END:VCALENDAR