BEGIN:VCALENDAR
VERSION:2.0
PRODID:-//taunus4family - ECPv5.14.1//NONSGML v1.0//EN
CALSCALE:GREGORIAN
METHOD:PUBLISH
X-WR-CALNAME:taunus4family
X-ORIGINAL-URL:https://www.taunus4family.de
X-WR-CALDESC:Veranstaltungen für taunus4family
BEGIN:VTIMEZONE
TZID:Europe/Helsinki
BEGIN:DAYLIGHT
TZOFFSETFROM:+0200
TZOFFSETTO:+0300
TZNAME:EEST
DTSTART:20250330T010000
END:DAYLIGHT
BEGIN:STANDARD
TZOFFSETFROM:+0300
TZOFFSETTO:+0200
TZNAME:EET
DTSTART:20251026T010000
END:STANDARD
END:VTIMEZONE
BEGIN:VEVENT
DTSTART;TZID=Europe/Helsinki:20250621T150000
DTEND;TZID=Europe/Helsinki:20250621T160000
DTSTAMP:20260422T150543
CREATED:20250617T172521Z
LAST-MODIFIED:20250617T172906Z
UID:51266-1750518000-1750521600@www.taunus4family.de
SUMMARY:Öffentliche Führung im Opel-Zoo - Jungtiere 2025
DESCRIPTION:Im Opel-Zoo sorgen Jungtiere stets für besondere Begeisterung – und in diesem Jahr gibt es Nachwuchs bei besonders beliebten Tierarten. Zu den Highlights zählen die am 10. März 2025 geborene Netzgiraffe „Kimia“\, das Trampeltier „Valentina“\, das am 21. März 2025 das Licht der Welt erblickte\, sowie die Berberaffen-Zwillinge vom 12. Mai 2025. Ein weiterer Publikumsliebling ist das Elefantenkalb „Kaja“\, geboren am 27. Mai 2025\, das aktuell gemeinsam mit seiner Mutter „Kariba“ und deren Ziehmutter „Lilak“ im Elefantenhaus zu sehen ist. \nAuch bei zahlreichen weiteren Tierarten gibt es Nachwuchs zu entdecken – unter anderem beim Weißstorch\, Waldrapp\, Rosapelikan\, Steinkauz\, verschiedenen Entenarten\, Himalaya-Glanzfasan und Helmperlhuhn. Das Jungtier der Roten Riesenkängurus wurde bereits am 19. Dezember des vergangenen Jahres geboren\, ist jedoch erst jetzt außerhalb des Beutels seiner Mutter zu beobachten. Im Mai 2025 erblickten zudem Europäische Zwergmäuse\, Meerschweinchen\, Zwergmangusten\, Europäische Nerze\, Weißrüsselnasenbären\, Mesopotamische Damhirsche\, Hirschziegenantilopen und Afrikanische Zwergziegen das Licht der Welt – viele von ihnen sind bereits für die Besucher sichtbar. \nBei der nächsten öffentlichen Führung steht die vielfältige und lebendige „Kinderstube“ des Opel-Zoos im Mittelpunkt. Die Führung findet am Samstag\, dem 21. Juni 2025\, um 15 Uhr statt. Treffpunkt ist die Statue des Zoogründers. Die Teilnahme ist kostenfrei\, ein zusätzlicher Beitrag zum Eintrittspreis ist nicht erforderlich\, und eine Anmeldung ist nicht notwendig.
URL:https://www.taunus4family.de/veranstaltung/oeffentliche-fuehrung-im-opel-zoo-jungtiere-2025/
LOCATION:Opel-Zoo in Kronberg\, Am Opel-Zoo 3\, Kronberg\, 61476\, Deutschland
CATEGORIES:Natur und Tiere
ATTACH;FMTTYPE=image/jpeg:https://www.taunus4family.de/wp-content/uploads/2025/06/Kaja.jpg
ORGANIZER;CN="OPEL-ZOO%20Georg%20von%20Opel%20-%20Freigehege%20f%C3%BCr%20Tierforschung":MAILTO:info@opel-zoo.de
GEO:50.183885;8.484175
X-APPLE-STRUCTURED-LOCATION;VALUE=URI;X-ADDRESS=Opel-Zoo in Kronberg Am Opel-Zoo 3 Kronberg 61476 Deutschland;X-APPLE-RADIUS=500;X-TITLE=Am Opel-Zoo 3:geo:8.484175,50.183885
END:VEVENT
END:VCALENDAR