BEGIN:VCALENDAR
VERSION:2.0
PRODID:-//taunus4family - ECPv5.14.1//NONSGML v1.0//EN
CALSCALE:GREGORIAN
METHOD:PUBLISH
X-WR-CALNAME:taunus4family
X-ORIGINAL-URL:https://www.taunus4family.de
X-WR-CALDESC:Veranstaltungen für taunus4family
BEGIN:VTIMEZONE
TZID:Europe/Helsinki
BEGIN:DAYLIGHT
TZOFFSETFROM:+0200
TZOFFSETTO:+0300
TZNAME:EEST
DTSTART:20250330T010000
END:DAYLIGHT
BEGIN:STANDARD
TZOFFSETFROM:+0300
TZOFFSETTO:+0200
TZNAME:EET
DTSTART:20251026T010000
END:STANDARD
END:VTIMEZONE
BEGIN:VEVENT
DTSTART;VALUE=DATE:20250814
DTEND;VALUE=DATE:20250817
DTSTAMP:20260421T211809
CREATED:20250724T064751Z
LAST-MODIFIED:20250724T065447Z
UID:51535-1755129600-1755388799@www.taunus4family.de
SUMMARY:2. Open-Air-Kino auf Burg Falkenstein
DESCRIPTION:Open-Air-Kino auf Burg Falkenstein – Drei Sommerabende voller Film\, Musik und Familienfreude\nEin ganz besonderes Erlebnis erwartet Familien und Filmfreunde vom 14. bis 16. August auf der romantischen Burg Falkenstein im Harz: Das Open-Air-Kino geht in die zweite Runde – mit gleich drei Themenabenden\, die für Groß und Klein jede Menge Unterhaltung versprechen. \nDonnerstag\, 14. August: Französischer Filmabend \nLos geht’s mit französischem Flair: Die beschwingte Komödie „Oh là là… wer ahnt denn sowas?“ eröffnet das lange Kinowochenende. Mit viel Witz und Charme bringt der Film gute Laune auf die Leinwand. Vielleicht liegt ja sogar der Duft frisch gebackener Crêpes in der Luft – ein stimmungsvoller Start in die Sommerabende! \nFreitag\, 15. August: Musik und Mitmachen für die ganze Familie \nAm Freitag wird die Burg zur Bühne: Die „Original Schwarzbachtaler Big Band“ aus Hofbieber bringt mit ihrem mitreißenden Swing nicht nur die alten Gemäuer\, sondern auch den ganzen Ort zum Klingen. Ab 18 Uhr startet ein Kinderprogramm\, bei dem Instrumente entdeckt und ausprobiert werden können – ein echtes Highlight für musikbegeisterte Familien! Mit Picknickdecke\, Snacks und Lieblingsgetränken wird der Abend zum entspannten Familienkonzert unter freiem Himmel. \nSamstag\, 16. August: Familienkino mit Paddington \nDen Abschluss bildet am Samstag ein Kinohighlight für alle Generationen: Der beliebte Bär Paddington nimmt seine Zuschauer mit auf ein herzerwärmendes Abenteuer durch Peru. Auch kulinarisch dürfen sich die Besucher auf eine kleine Überraschung aus Südamerika freuen. \nWissenswertes für den Besuch: \n\n\nEinlass: an den Filmabenden ab 19 Uhr\, Filmbeginn bei Einbruch der Dunkelheit (ca. 21 Uhr) \n\n\nEintrittspreise: 7\,50 € für Erwachsene\, 5 € für Kinder (nur Abendkasse) \n\n\nVerpflegung: Eigene Speisen und Getränke dürfen mitgebracht werden – keine Verzehrpflicht! \n\n\nAusstattung: Picknickdecken\, Klappstühle & Co. sind willkommen \n\n\nWetterinfo: Die Veranstaltungen finden nur bei trockenem Wetter statt. Aktuelle Infos gibt es tagesaktuell auf der Homepage und den Social-Media-Kanälen des Heimatvereins Falkenstein. \n\n\nDrei Abende\, eine Burg\, viele Highlights – das Open-Air-Kino auf Burg Falkenstein ist der perfekte Sommerausflug für die ganze Familie!
URL:https://www.taunus4family.de/veranstaltung/open-air-kino-auf-burg-falkenstein-2/
LOCATION:Burgruine Falkenstein\, Günter-Boller-Weg\, Königstein\, 61462\, Deutschland
CATEGORIES:Freizeit,Kunst und Kultur
ATTACH;FMTTYPE=image/jpeg:https://www.taunus4family.de/wp-content/uploads/2025/07/Screenshot-2025-07-24-085313.jpg
ORGANIZER;CN="Heimatverein%20Falkenstein%20im%20Taunus%20e.V..":MAILTO:heimatverein-falkenstein@gmx.de
GEO:50.1900341;8.4601345
X-APPLE-STRUCTURED-LOCATION;VALUE=URI;X-ADDRESS=Burgruine Falkenstein Günter-Boller-Weg Königstein 61462 Deutschland;X-APPLE-RADIUS=500;X-TITLE=Günter-Boller-Weg:geo:8.4601345,50.1900341
END:VEVENT
END:VCALENDAR