BEGIN:VCALENDAR
VERSION:2.0
PRODID:-//taunus4family - ECPv5.14.1//NONSGML v1.0//EN
CALSCALE:GREGORIAN
METHOD:PUBLISH
X-WR-CALNAME:taunus4family
X-ORIGINAL-URL:https://www.taunus4family.de
X-WR-CALDESC:Veranstaltungen für taunus4family
BEGIN:VTIMEZONE
TZID:Europe/Helsinki
BEGIN:DAYLIGHT
TZOFFSETFROM:+0200
TZOFFSETTO:+0300
TZNAME:EEST
DTSTART:20240331T010000
END:DAYLIGHT
BEGIN:STANDARD
TZOFFSETFROM:+0300
TZOFFSETTO:+0200
TZNAME:EET
DTSTART:20241027T010000
END:STANDARD
END:VTIMEZONE
BEGIN:VEVENT
DTSTART;TZID=Europe/Helsinki:20240823T210000
DTEND;TZID=Europe/Helsinki:20240823T230000
DTSTAMP:20260424T022918
CREATED:20240822T072657Z
LAST-MODIFIED:20240822T072657Z
UID:48978-1724446800-1724454000@www.taunus4family.de
SUMMARY:Open-Air-Kino auf Burg Falkenstein
DESCRIPTION:Am letzten Freitag in den Ferien\, am 23.08.2024\, wird zum ersten mal in ihrer fast 1000 jährigen Geschichte\, ein Open-Air-Kino auf der Burg Falkenstein stattfinden. \n\nDer aktuelle Familienfilm „Ella und der schwarze Jaguar“ wird vom Kino Kelkheim exklusiv vorgeführt. Der Trailer weiter unten gibt bereits einen spannenden Vorgeschmack auf die fesselnde Geschichte und die beeindruckenden Bilder des Films. \nIn der malerischen Umgebung unserer Burg erwartet die Gäste ein unvergesslicher Abend\, der nicht nur mit großartigen Szenen auf der Leinwand\, sondern auch mit einem fantastischen Ausblick über das Rhein-Main-Gebiet punkten wird. Nach dem Film lädt die laue Sommernacht dazu ein\, noch ein wenig zu verweilen\, sich zu unterhalten und gemeinsam zu spielen. Es wird höchste Zeit\, dass wieder einmal auf der Burg gefeiert wird. \nDer Eintritt beträgt 5 Euro\, und Tickets sind direkt vor Ort erhältlich. Alle Gäste werden gebeten\, eine Sitzgelegenheit oder Picknickdecke sowie Verpflegung mitzubringen. Zusätzlich werden wir eine kleine Auswahl an Getränken zum Verkauf anbieten. Geplant ist es\, einen Shuttleservice zur Burg einzurichten\, damit auch weniger mobile Falkensteiner an der Veranstaltung teilnehmen können. Über diesen Service und mögliche kulinarische Angebote wird zeitnah informiert. Der Weg von der Burg wird beleuchtet sein\, doch im Wald ist eine Taschenlampe in der Nacht immer hilfreich. \nEin grandioser Start einer neuen Tradition auf der wunderschönen Burg!
URL:https://www.taunus4family.de/veranstaltung/open-air-kino-auf-burg-falkenstein/
LOCATION:Burgruine Falkenstein\, Günter-Boller-Weg\, Königstein\, 61462\, Deutschland
CATEGORIES:Freizeit,Kunst und Kultur
ATTACH;FMTTYPE=image/jpeg:https://www.taunus4family.de/wp-content/uploads/2024/08/Unbenannt-3.jpg
ORGANIZER;CN="Heimatverein%20Falkenstein%20im%20Taunus%20e.V..":MAILTO:heimatverein-falkenstein@gmx.de
GEO:50.1900341;8.4601345
X-APPLE-STRUCTURED-LOCATION;VALUE=URI;X-ADDRESS=Burgruine Falkenstein Günter-Boller-Weg Königstein 61462 Deutschland;X-APPLE-RADIUS=500;X-TITLE=Günter-Boller-Weg:geo:8.4601345,50.1900341
END:VEVENT
END:VCALENDAR