BEGIN:VCALENDAR
VERSION:2.0
PRODID:-//taunus4family - ECPv5.14.1//NONSGML v1.0//EN
CALSCALE:GREGORIAN
METHOD:PUBLISH
X-WR-CALNAME:taunus4family
X-ORIGINAL-URL:https://www.taunus4family.de
X-WR-CALDESC:Veranstaltungen für taunus4family
BEGIN:VTIMEZONE
TZID:Europe/Helsinki
BEGIN:DAYLIGHT
TZOFFSETFROM:+0200
TZOFFSETTO:+0300
TZNAME:EEST
DTSTART:20250330T010000
END:DAYLIGHT
BEGIN:STANDARD
TZOFFSETFROM:+0300
TZOFFSETTO:+0200
TZNAME:EET
DTSTART:20251026T010000
END:STANDARD
END:VTIMEZONE
BEGIN:VEVENT
DTSTART;TZID=Europe/Helsinki:20250412T090000
DTEND;TZID=Europe/Helsinki:20250412T180000
DTSTAMP:20260422T040242
CREATED:20230321T184228Z
LAST-MODIFIED:20250323T111603Z
UID:43905-1744448400-1744480800@www.taunus4family.de
SUMMARY:Ostermarkt & Eier-Suche für die ganze Familie im Hessenpark 2025
DESCRIPTION:Lasst euch von der bunten Vielfalt des Ostermarktes verzaubern und stimmt euch beim gemütlichen Bummeln durch das historische Ambiente auf den Frühling ein! Rund 80 Ausstellern präsentieren ihre handgefertigten Schätze – von kunstvollen Ostereiern und liebevoll gestalteter Frühlingsdekoration über feine Weißstickerei\, Leinenarbeiten und stilvolle Gartenaccessoires bis hin zu einzigartiger Holzkunst. Hier ist für jeden Geschmack etwas dabei! \nNatürlich ist auch für das leibliche Wohl gesorgt: Die Hessenpark-Gastronomie und zahlreiche Imbissstände verwöhnen euch mit köstlichen Spezialitäten. \nEin besonderes Highlight für kleine Entdecker: Rund 2.500 Ostereier werden im Hessenpark versteckt – wer findet sie alle? Ein spannender Spaß für die ganze Familie! 🌸🐰🥚 \n  \nEintrittspreise (Zur Preisübersicht)  \nErwachsene: 11\,00 €\nKinder: 1\,00 €\nFamilie: 22\,00 € \n 
URL:https://www.taunus4family.de/veranstaltung/ostermarkt-im-hessenpark-2025/
LOCATION:Freilichtmuseum Hessenpark GmbH\, Laubweg 5\, Neu-Anspach\, 61267\, Deutschland
CATEGORIES:Feste und Märkte
ATTACH;FMTTYPE=image/jpeg:https://www.taunus4family.de/wp-content/uploads/2023/03/Ostermarkt_Martin-Joppen.jpg
ORGANIZER;CN="Freilichtmuseum%20Hessenpark":MAILTO:service@hessenpark.de
GEO:50.2800386;8.5298025
X-APPLE-STRUCTURED-LOCATION;VALUE=URI;X-ADDRESS=Freilichtmuseum Hessenpark GmbH Laubweg 5 Neu-Anspach 61267 Deutschland;X-APPLE-RADIUS=500;X-TITLE=Laubweg 5:geo:8.5298025,50.2800386
END:VEVENT
END:VCALENDAR