BEGIN:VCALENDAR
VERSION:2.0
PRODID:-//taunus4family - ECPv5.14.1//NONSGML v1.0//EN
CALSCALE:GREGORIAN
METHOD:PUBLISH
X-WR-CALNAME:taunus4family
X-ORIGINAL-URL:https://www.taunus4family.de
X-WR-CALDESC:Veranstaltungen für taunus4family
BEGIN:VTIMEZONE
TZID:Europe/Helsinki
BEGIN:DAYLIGHT
TZOFFSETFROM:+0200
TZOFFSETTO:+0300
TZNAME:EEST
DTSTART:20250330T010000
END:DAYLIGHT
BEGIN:STANDARD
TZOFFSETFROM:+0300
TZOFFSETTO:+0200
TZNAME:EET
DTSTART:20251026T010000
END:STANDARD
BEGIN:DAYLIGHT
TZOFFSETFROM:+0200
TZOFFSETTO:+0300
TZNAME:EEST
DTSTART:20260329T010000
END:DAYLIGHT
BEGIN:STANDARD
TZOFFSETFROM:+0300
TZOFFSETTO:+0200
TZNAME:EET
DTSTART:20261025T010000
END:STANDARD
END:VTIMEZONE
BEGIN:VEVENT
DTSTART;VALUE=DATE:20250112
DTEND;VALUE=DATE:20260209
DTSTAMP:20260424T103918
CREATED:20251016T144659Z
LAST-MODIFIED:20251021T172457Z
UID:52473-1736640000-1770595199@www.taunus4family.de
SUMMARY:22. Internationales Neujahrs-Varieté in Bad Nauheim
DESCRIPTION:Einmal im Jahr – wenn die Festtage verklungen sind und die Lichter des Winters noch leuchten – verwandelt sich Bad Nauheim in die europäische Hauptstadt der Artistik: Das OVAG-Varieté lädt zu einem unvergleichlichen Spektakel ein. Im prachtvollen Jugendstil-Theater des Dolce erleben die Besucher eine mitreißende Mischung aus Grazie\, Mut und Eleganz. \nDas Internationale OVAG-Varieté geht 2026 in die 22. Runde!\nBeim 22. Internationalen OVAG-Varieté 2026 stehen wieder Weltklassekünstler auf der Bühne: Jongleure\, Zauberer\, Handstandartisten und Akrobaten aus aller Welt sorgen für Momente des Staunens\, Lachens und purer Faszination. Dieses Varieté ist weit mehr als eine Show – es ist ein Fest der Sinne\, bei dem man leicht vergisst\, zu applaudieren\, weil man ganz in den Darbietungen aufgeht. \nDas rund 3\,5-stündige Programm (inklusive Pause) vereint alles\, was die Kunstform so besonders macht: spektakuläre Akrobatik\, poetische Magie\, temporeiche Comedy und beeindruckendes Schwarzlichttheater. Mit 43 Künstlern aus 14 Nationen präsentiert das OVAG-Varieté ein internationales Feuerwerk der Unterhaltung – unter „Weltklasse“ macht man es hier nicht. \nAuch junge Gäste sind herzlich willkommen – empfohlen wird der Besuch für Kinder ab 5 Jahren. \nEintrittskartenErhältlich bei der OVAG unter Tel. 06031 68 48 11 13 oder online zu bestellen.Die Karten kosten zwischen 42 € und 52 €\, für Kinder gilt ein Einheitspreis von 27 €. \nEin Abend voller Staunen\, Applaus und unvergesslicher Momente – das ist das OVAG-Varieté in Bad Nauheim.
URL:https://www.taunus4family.de/veranstaltung/ovag-22-internatioales-neujahrs-variete-in-bad-nauheim/
LOCATION:DOLCE Jugendstil-Theater\, Elvis-Presley-Platz 1\, Bad Nauheim\, 61231\, Deutschland
CATEGORIES:Theater und Bühnen
ATTACH;FMTTYPE=image/jpeg:https://www.taunus4family.de/wp-content/uploads/2025/10/1.jpg
ORGANIZER;CN="OVAG-Gruppe":MAILTO:info@ovag.de
GEO:50.3691147;8.737584
X-APPLE-STRUCTURED-LOCATION;VALUE=URI;X-ADDRESS=DOLCE Jugendstil-Theater Elvis-Presley-Platz 1 Bad Nauheim 61231 Deutschland;X-APPLE-RADIUS=500;X-TITLE=Elvis-Presley-Platz 1:geo:8.737584,50.3691147
END:VEVENT
END:VCALENDAR