BEGIN:VCALENDAR
VERSION:2.0
PRODID:-//taunus4family - ECPv5.14.1//NONSGML v1.0//EN
CALSCALE:GREGORIAN
METHOD:PUBLISH
X-WR-CALNAME:taunus4family
X-ORIGINAL-URL:https://www.taunus4family.de
X-WR-CALDESC:Veranstaltungen für taunus4family
BEGIN:VTIMEZONE
TZID:Europe/Helsinki
BEGIN:DAYLIGHT
TZOFFSETFROM:+0200
TZOFFSETTO:+0300
TZNAME:EEST
DTSTART:20250330T010000
END:DAYLIGHT
BEGIN:STANDARD
TZOFFSETFROM:+0300
TZOFFSETTO:+0200
TZNAME:EET
DTSTART:20251026T010000
END:STANDARD
END:VTIMEZONE
BEGIN:VEVENT
DTSTART;TZID=Europe/Helsinki:20250824T100000
DTEND;TZID=Europe/Helsinki:20250824T160000
DTSTAMP:20260422T003009
CREATED:20250820T093755Z
LAST-MODIFIED:20250820T094826Z
UID:51783-1756029600-1756051200@www.taunus4family.de
SUMMARY:Privater Hofflohmarkt in Kronberg
DESCRIPTION:Der privat organisierte Hofflohmarkt im „Tal“ und in Teilen der Altstadt geht in die nächste Runde. Am Sonntag\, den 24. August 2025 von 10 – 16 Uhr öffnen die Kronberger ihre Höfe und Garagen für zahlreiche Besuchende. An den jeweiligen Höfen werden Hinweise mit einem QR-Code ausgehängt. Scannt man diesen Code\, erhält man zur Orientierung ein Verzeichnis aller Teilnehmenden und ihrer jeweiligen Flohmarktposition. Kurzfristig kann man sich auch via E-Mail an alex.ritschel@hotmail.de noch für den Flohmarkt anmelden.\nEin Lageplan kann runtergeladen werden.
URL:https://www.taunus4family.de/veranstaltung/privater-hofflohmarkt-in-kronberg/
LOCATION:Altstadt Kronberg\, Kronberg\, 61476\, Deutschland
CATEGORIES:Basare und Flohmärkte
ATTACH;FMTTYPE=image/jpeg:https://www.taunus4family.de/wp-content/uploads/2025/08/Privater-Flohmarkt.jpg
ORGANIZER;CN="Jasmin%20Lehmann":MAILTO:Jasminlaute@gmail.com
END:VEVENT
END:VCALENDAR