BEGIN:VCALENDAR
VERSION:2.0
PRODID:-//taunus4family - ECPv5.14.1//NONSGML v1.0//EN
CALSCALE:GREGORIAN
METHOD:PUBLISH
X-WR-CALNAME:taunus4family
X-ORIGINAL-URL:https://www.taunus4family.de
X-WR-CALDESC:Veranstaltungen für taunus4family
BEGIN:VTIMEZONE
TZID:Europe/Helsinki
BEGIN:DAYLIGHT
TZOFFSETFROM:+0200
TZOFFSETTO:+0300
TZNAME:EEST
DTSTART:20250330T010000
END:DAYLIGHT
BEGIN:STANDARD
TZOFFSETFROM:+0300
TZOFFSETTO:+0200
TZNAME:EET
DTSTART:20251026T010000
END:STANDARD
END:VTIMEZONE
BEGIN:VEVENT
DTSTART;TZID=Europe/Helsinki:20250322T100000
DTEND;TZID=Europe/Helsinki:20250322T130000
DTSTAMP:20260422T164512
CREATED:20250227T054259Z
LAST-MODIFIED:20250227T054259Z
UID:50280-1742637600-1742648400@www.taunus4family.de
SUMMARY:Räderflohmarkt- Alles\, was Räder hat!
DESCRIPTION:Am 22.3.2025 von 11- 13 Uhr veranstaltet der Lutherkindergarten zum 11. Mal den Flohmarkt „Alles\, was Räder hat“.\nVerkauft werden Kinder- Jugend- und Erwachsenenfahrräder\, Roller\, Laufräder\, Inliner\, Kinderwagen\, Bobbycars\, Dreiräder\, Lastenräder\, Bollerwagen usw. ……und Zubehör wie etwa Fahrradhelme\, -sitze und Anhänger und alles „was Räder hat“ auf Kommissionsbasis.\nSie geben Ihre Räder ab\, wir verkaufen für Sie!\n15 Prozent des Verkaufserlöses kommen den Kindern des Lutherkindergartens zugute. \nSpenden sind sehr willkommen!!!\nEintritt frei\nAlle Infos und die Verkäufernummern- Vergabe ab sofort unter: https://www.lutherkindergarten-frankfurt.de/startseite/termine-2025/räderflohmarkt/
URL:https://www.taunus4family.de/veranstaltung/raederflohmarkt-alles-was-raeder-hat/
LOCATION:Lutherkirche\, Martin- Luther- Platz 1\, Frankfurt\, 60316\, Deutschland
CATEGORIES:Basare und Flohmärkte
ATTACH;FMTTYPE=image/jpeg:https://www.taunus4family.de/wp-content/uploads/2025/02/Alles-was-Raeder-hat-2025.jpg
ORGANIZER;CN="Lutherkindergarten":MAILTO:allesmitraedern@gmx.de
END:VEVENT
END:VCALENDAR