BEGIN:VCALENDAR
VERSION:2.0
PRODID:-//taunus4family - ECPv5.14.1//NONSGML v1.0//EN
CALSCALE:GREGORIAN
METHOD:PUBLISH
X-WR-CALNAME:taunus4family
X-ORIGINAL-URL:https://www.taunus4family.de
X-WR-CALDESC:Veranstaltungen für taunus4family
BEGIN:VTIMEZONE
TZID:Europe/Helsinki
BEGIN:DAYLIGHT
TZOFFSETFROM:+0200
TZOFFSETTO:+0300
TZNAME:EEST
DTSTART:20250330T010000
END:DAYLIGHT
BEGIN:STANDARD
TZOFFSETFROM:+0300
TZOFFSETTO:+0200
TZNAME:EET
DTSTART:20251026T010000
END:STANDARD
END:VTIMEZONE
BEGIN:VEVENT
DTSTART;VALUE=DATE:20250529
DTEND;VALUE=DATE:20250602
DTSTAMP:20260419T205019
CREATED:20250106T175908Z
LAST-MODIFIED:20250106T180011Z
UID:49902-1748476800-1748822399@www.taunus4family.de
SUMMARY:Retro Mitte der Fliegergruppe Hochtaunus
DESCRIPTION:Es gibt den Retro Look in der Mode\, Retro-Toaster und Radios und Kühlschränke\, Airlines lackieren Flugzeuge im Retro Look\, das heißt\, in der Lackierung\, die vor 30\, 40 oder noch mehr Jahren üblich war. Und es gibt Retro auch in der Modellflugszene. \nAlte Schätzchen\nSchon am 11. und 12. Mai geht es weiter mit einem Treffen der Retro-Klasse. Das Retro Mitte in Wehrheim\, das 2017 erstmalig stattfand\, ist eines von mehreren jährlichen Retro-Treffen\, zu dem Gäste aus mehr oder weniger ganz Deutschland anreisen. Die alten Schätze mit knatternden Verbrennungsmotoren\, wie sie vor 30-40 Jahren noch im Einsatz waren\, werden aus den Kellern geholt und erobern den Himmel über der Schlink. \nAlle Retro Fans sind wieder eingeladen zum Fliegen mit ihren Retro Modellen\, zum Quatschen und Feiern. Der Kühlschrank wird wieder gefüllt sein und der Gasgrill steht jedem\, auch für Mitgebrachtes\, zur Verfügung.
URL:https://www.taunus4family.de/veranstaltung/retro-mitte-der-fliegergruppe-hochtaunus-2/
LOCATION:Modellfluggelände an der „Schlink“\, K728 zwischen Wehrheim und Pfaffenwiesbach\, Wehrheim\, 61273\, Deutschland
CATEGORIES:Feste und Märkte,Freizeit
ATTACH;FMTTYPE=image/jpeg:https://www.taunus4family.de/wp-content/uploads/2024/04/FGHT-004-2024-002-scaled.jpg
ORGANIZER;CN="Fliegergruppe%20Hochtaunus%20e.%20V.":MAILTO:info@fliegergruppe-hochtaunus.de
GEO:50.3315782;8.6056514
X-APPLE-STRUCTURED-LOCATION;VALUE=URI;X-ADDRESS=Modellfluggelände an der „Schlink“ K728 zwischen Wehrheim und Pfaffenwiesbach Wehrheim 61273 Deutschland;X-APPLE-RADIUS=500;X-TITLE=K728 zwischen Wehrheim und Pfaffenwiesbach:geo:8.6056514,50.3315782
END:VEVENT
END:VCALENDAR