BEGIN:VCALENDAR
VERSION:2.0
PRODID:-//taunus4family - ECPv5.14.1//NONSGML v1.0//EN
CALSCALE:GREGORIAN
METHOD:PUBLISH
X-WR-CALNAME:taunus4family
X-ORIGINAL-URL:https://www.taunus4family.de
X-WR-CALDESC:Veranstaltungen für taunus4family
BEGIN:VTIMEZONE
TZID:Europe/Helsinki
BEGIN:DAYLIGHT
TZOFFSETFROM:+0200
TZOFFSETTO:+0300
TZNAME:EEST
DTSTART:20250330T010000
END:DAYLIGHT
BEGIN:STANDARD
TZOFFSETFROM:+0300
TZOFFSETTO:+0200
TZNAME:EET
DTSTART:20251026T010000
END:STANDARD
END:VTIMEZONE
BEGIN:VEVENT
DTSTART;VALUE=DATE:20250913
DTEND;VALUE=DATE:20250915
DTSTAMP:20260422T174715
CREATED:20250821T141615Z
LAST-MODIFIED:20250821T142357Z
UID:51837-1757721600-1757894399@www.taunus4family.de
SUMMARY:Herbstzauber & Lichterglanz – Markt\, Musik & Mitmachaktionen
DESCRIPTION:Am 13. und 14. September 2025 lädt dich der Königsteiner Narrenclub „Die Plasterschisser“ zum neuen Fest Herbstzauber & Lichterglanz – Markt\, Musik & Mitmachaktionen ein. Der Rathausplatz verwandelt sich dabei in einen stimmungsvoll geschmückten Treffpunkt voller herbstlicher Atmosphäre. \nAm Samstag erwarten dich von 15:00 bis Mitternacht ein bunter Herbstmarkt mit leckeren Spezialitäten\, kreativen Mitmachaktionen und am Abend beste Unterhaltung mit Musik und Tanz. Am Sonntag öffnet der Markt von 13:00 bis 18:00 Uhr erneut seine Tore – Highlight ist der Auftritt der beliebten Band Mangold\, die für ein unvergessliches Live-Erlebnis sorgt. \nOb beim Kürbisschnitzen\, bei Spielen oder einfach beim Genießen von Speisen\, Getränken und süßen Leckereien – hier ist für dich und deine Familie jede Menge geboten. Umrahmt von Kürbissen\, Lichterglanz und gemütlicher Deko erlebst du ein Fest\, das zum Verweilen und Mitfeiern einlädt.
URL:https://www.taunus4family.de/veranstaltung/riesengaudi-beim-17-koenigsteiner-oktoberfest-copy/
LOCATION:Kapuzinerplatz Königstein im Taunus\, Königstein im Taunus\, 61462\, Deutschland
CATEGORIES:Feste und Märkte
ATTACH;FMTTYPE=image/jpeg:https://www.taunus4family.de/wp-content/uploads/2025/08/Screenshot-2025-08-21-161814.jpg
ORGANIZER;CN="K%C3%B6nigsteiner%20Narrenclub%201971%2F79%20e.V.":MAILTO:hallo@plaschis.de
GEO:50.1900341;8.4601345
END:VEVENT
END:VCALENDAR