BEGIN:VCALENDAR
VERSION:2.0
PRODID:-//taunus4family - ECPv5.14.1//NONSGML v1.0//EN
CALSCALE:GREGORIAN
METHOD:PUBLISH
X-WR-CALNAME:taunus4family
X-ORIGINAL-URL:https://www.taunus4family.de
X-WR-CALDESC:Veranstaltungen für taunus4family
BEGIN:VTIMEZONE
TZID:Europe/Helsinki
BEGIN:DAYLIGHT
TZOFFSETFROM:+0200
TZOFFSETTO:+0300
TZNAME:EEST
DTSTART:20250330T010000
END:DAYLIGHT
BEGIN:STANDARD
TZOFFSETFROM:+0300
TZOFFSETTO:+0200
TZNAME:EET
DTSTART:20251026T010000
END:STANDARD
END:VTIMEZONE
BEGIN:VEVENT
DTSTART;TZID=Europe/Helsinki:20250615T110000
DTEND;TZID=Europe/Helsinki:20250615T170000
DTSTAMP:20260424T113335
CREATED:20250605T162131Z
LAST-MODIFIED:20250605T162131Z
UID:51203-1749985200-1750006800@www.taunus4family.de
SUMMARY:Römerkastell Saalburg - Die Sonntagsrömer kehren zurück ins Römerkastell Saalburg
DESCRIPTION:Am Sonntag\, den 15. Juni 2025\, lädt das Römerkastell Saalburg von 11 bis 17 Uhr zu den beliebten „Sonntagsrömern“ ein. Besucherinnen und Besucher erwartet ein lebendiges Programm mit faszinierenden Einblicken in das römische Alltagsleben – dabei stehen anschauliche Darstellungen und interaktive Mitmachaktionen im Mittelpunkt. \nDie Sonntagsrömer sind wieder im Römerkastell Saalburg\nEin besonderes Highlight ist der Meldereiter mit seinem Pferd\, der die Gäste auf verschiedenen Stationen durch das Kastell begleitet. Auf seiner Tour erzählt er aus seinem Alltag in der römischen Armee\, erklärt die spezielle Ausbildung der römischen Pferde sowie die Ausrüstung der Soldaten und vermittelt so authentische Einblicke in das Leben vor 2.000 Jahren. Darüber hinaus öffnet die Römische Schule ihre Türen und ermöglicht einen spannenden Blick in den Schulalltag der römischen Kinder. Kleine und große Besucherinnen und Besucher können römische Schreibtechniken ausprobieren und spielerisch in die Vergangenheit eintauchen. \nDie „Sonntagsrömer“ bieten eine lebendige Verbindung zur Geschichte und laden zum Mitmachen\, Staunen und Lernen ein. Weitere Informationen zu Terminen und Programmen finden Sie auf der offiziellen Webseite unter www.saalburgmuseum.de. \nÖffentliche Führungen finden um 11\, 13 und 15 Uhr statt. Für nur 5 Euro (Erwachsene) bzw. 3 Euro (Kinder) erhalten Sie hier einen unmittelbaren Zugang zur faszinierenden Welt der Römer. Tickets sind direkt vor Ort erhältlich. \nNach der Erkundung können Sie sich im Museumsrestaurant Taberna mit kulinarischen Spezialitäten nach römischen Rezepten oder mit Gerichten der modernen Küche verwöhnen lassen. Das Restaurant hat von 11 bis 18 Uhr geöffnet.
URL:https://www.taunus4family.de/veranstaltung/roemerkastell-saalburg-die-sonntagsroemer-kehren-zurueck-ins-roemerkastell-saalburg/
LOCATION:Römerkastell Saalburg Archäologischer Park\, Am Römerkastell 1\, Bad Homburg\, 61350\, Deutschland
CATEGORIES:Freizeit,Kunst und Kultur
ATTACH;FMTTYPE=image/jpeg:https://www.taunus4family.de/wp-content/uploads/2025/06/Sonntagsroemer-22.9.23-Stephan-Dinges-7-002.jpg
ORGANIZER;CN="R%C3%B6merkastell%20Saalburg%20-%20Arch%C3%A4ologischer%20Park":MAILTO:info@saalburgmuseum.de
GEO:50.271747;8.5665714
X-APPLE-STRUCTURED-LOCATION;VALUE=URI;X-ADDRESS=Römerkastell Saalburg Archäologischer Park Am Römerkastell 1 Bad Homburg 61350 Deutschland;X-APPLE-RADIUS=500;X-TITLE=Am Römerkastell 1:geo:8.5665714,50.271747
END:VEVENT
END:VCALENDAR