BEGIN:VCALENDAR
VERSION:2.0
PRODID:-//taunus4family - ECPv5.14.1//NONSGML v1.0//EN
CALSCALE:GREGORIAN
METHOD:PUBLISH
X-WR-CALNAME:taunus4family
X-ORIGINAL-URL:https://www.taunus4family.de
X-WR-CALDESC:Veranstaltungen für taunus4family
BEGIN:VTIMEZONE
TZID:Europe/Helsinki
BEGIN:DAYLIGHT
TZOFFSETFROM:+0200
TZOFFSETTO:+0300
TZNAME:EEST
DTSTART:20250330T010000
END:DAYLIGHT
BEGIN:STANDARD
TZOFFSETFROM:+0300
TZOFFSETTO:+0200
TZNAME:EET
DTSTART:20251026T010000
END:STANDARD
END:VTIMEZONE
BEGIN:VEVENT
DTSTART;TZID=Europe/Helsinki:20250323T100000
DTEND;TZID=Europe/Helsinki:20250323T160000
DTSTAMP:20260420T023850
CREATED:20250311T173845Z
LAST-MODIFIED:20250311T173845Z
UID:50511-1742724000-1742745600@www.taunus4family.de
SUMMARY:Secondhand-Basar der Lions-Damen
DESCRIPTION:Unter dem Motto „Frauen helfen Frauen“ veranstalten die Lions-Damen wieder ihren beliebten Secondhand-Basar\, der am 23. März in der Zeit von 10-16 Uhr in der Zugmantelhalle in Taunusstein-Orlen stattfindet. BesucherInnen dürfen sich auf eine große Auswahl an hochwertiger Marken-Kleidung für Damen und Herren sowie ausgesuchte junge Mode freuen. Das Angebot reicht vom Ballkleid bis zu neuwertigen Sportschuhen\, von der Handtasche bis zur Designer-Jeans. Dabei wird der Geldbeutel geschont\, denn die günstigen Preise und die Qualität des Angebotes sind in der ganzen Region bekannt. So lässt es sich auch an einem Sonntag bedenkenlos und ausgiebig shoppen. Zum Angebot gehören außerdem ein Bücherflohmarkt von der Buchhandlung Libera\, Gedrucktes und Besticktes von Three in a House\, sowie eine Fachberatung für FitLine-Produkte. Für Kaffee\, Kuchen + mehr sorgt das Team der Kerbegesellschaft Orlen. Mit dem Erlös werden Frauen in schwierigen Lebenssituationen unterstützt. Ein echtes Charity-Event also\, denn jeder Kauf hilft weiter! EC-Kartenzahlung ist möglich.
URL:https://www.taunus4family.de/veranstaltung/secondhand-basar-der-lions-damen-2/
LOCATION:Zugmantelhalle\, 65232 Taunusstein-Orlen\, Neuhofer Str. 1\, Taunusstein\, 65232
CATEGORIES:Basare und Flohmärkte,Charity
ATTACH;FMTTYPE=image/jpeg:https://www.taunus4family.de/wp-content/uploads/2025/03/Flyer-A6_Lions-Basar_2025.jpg
ORGANIZER;CN="Lions-Damen%20Untertaunus":MAILTO:hm.kopetzki@t-online.de
GEO:50.1808748;8.1885091
X-APPLE-STRUCTURED-LOCATION;VALUE=URI;X-ADDRESS=Zugmantelhalle 65232 Taunusstein-Orlen Neuhofer Str. 1 Taunusstein 65232;X-APPLE-RADIUS=500;X-TITLE=Neuhofer Str. 1:geo:8.1885091,50.1808748
END:VEVENT
END:VCALENDAR