BEGIN:VCALENDAR
VERSION:2.0
PRODID:-//taunus4family - ECPv5.14.1//NONSGML v1.0//EN
CALSCALE:GREGORIAN
METHOD:PUBLISH
X-WR-CALNAME:taunus4family
X-ORIGINAL-URL:https://www.taunus4family.de
X-WR-CALDESC:Veranstaltungen für taunus4family
BEGIN:VTIMEZONE
TZID:Europe/Helsinki
BEGIN:DAYLIGHT
TZOFFSETFROM:+0200
TZOFFSETTO:+0300
TZNAME:EEST
DTSTART:20230326T010000
END:DAYLIGHT
BEGIN:STANDARD
TZOFFSETFROM:+0300
TZOFFSETTO:+0200
TZNAME:EET
DTSTART:20231029T010000
END:STANDARD
END:VTIMEZONE
BEGIN:VEVENT
DTSTART;VALUE=DATE:20230602
DTEND;VALUE=DATE:20230605
DTSTAMP:20260420T094551
CREATED:20230416T172352Z
LAST-MODIFIED:20230416T172521Z
UID:44211-1685664000-1685923199@www.taunus4family.de
SUMMARY:Sommer- und Weinfest Königstein
DESCRIPTION:Das Wein- und Sektfest der Chorgemeinschaft 1860 im Königsteiner Kurpark \nNatürlich wird es auch dieses Jahr unsere Minnesänger Cuveé geben\, die wir in Zusammenarbeit mit dem Weingut Wageck – Pfaffmann extra für euch haben abfüllen lassen sowie eine große Auswahl weiterer Weine und Sekte. \nAußerdem werden jede Menge kulinarischer Leckerbissen und ein buntes Rahmenprogramm geboten! \nDurch die tatkräftige Unterstützung aller Partner\, vieler Königsteiner Vereine und der Stadt Königstein\, ist es gelungen\, ein tolles Fest für alle Königsteiner auf die Beine zu stellen. \nEintritt kostenlos!
URL:https://www.taunus4family.de/veranstaltung/sommer-und-weinfest-koenigstein/
LOCATION:Kurpark Königstein\, Hauptstraße 21\, Königstein im Taunus\, 61462\, Deutschland
CATEGORIES:Feste und Märkte
ATTACH;FMTTYPE=image/jpeg:https://www.taunus4family.de/wp-content/uploads/2023/04/Weinfest-florentina-gluexam.jpg
ORGANIZER;CN="Chorgemeinschaft%201860%20K%C3%B6nigstein":MAILTO:stefan.seidel@chorgemeinschaft1860.de
GEO:50.18228;8.46602
X-APPLE-STRUCTURED-LOCATION;VALUE=URI;X-ADDRESS=Kurpark Königstein Hauptstraße 21 Königstein im Taunus 61462 Deutschland;X-APPLE-RADIUS=500;X-TITLE=Hauptstraße 21:geo:8.46602,50.18228
END:VEVENT
END:VCALENDAR