BEGIN:VCALENDAR
VERSION:2.0
PRODID:-//taunus4family - ECPv5.14.1//NONSGML v1.0//EN
CALSCALE:GREGORIAN
METHOD:PUBLISH
X-WR-CALNAME:taunus4family
X-ORIGINAL-URL:https://www.taunus4family.de
X-WR-CALDESC:Veranstaltungen für taunus4family
BEGIN:VTIMEZONE
TZID:Europe/Helsinki
BEGIN:DAYLIGHT
TZOFFSETFROM:+0200
TZOFFSETTO:+0300
TZNAME:EEST
DTSTART:20250330T010000
END:DAYLIGHT
BEGIN:STANDARD
TZOFFSETFROM:+0300
TZOFFSETTO:+0200
TZNAME:EET
DTSTART:20251026T010000
END:STANDARD
END:VTIMEZONE
BEGIN:VEVENT
DTSTART;VALUE=DATE:20250805
DTEND;VALUE=DATE:20260101
DTSTAMP:20260422T062409
CREATED:20250729T130507Z
LAST-MODIFIED:20250729T131533Z
UID:51592-1754352000-1767225599@www.taunus4family.de
SUMMARY:Neu im Opel-Zoo: Dromedar-Spezialführung für Kinder
DESCRIPTION:Die Zoopädagogik des Opel-Zoos bietet ab dem 5. August 2025 ein neues\, spannendes Erlebnis für Kinder im Alter von 6 bis 11 Jahren: eine exklusive Spezialführung rund um das Dromedar – inklusive Reitrunde. \nIn kleinen Gruppen von maximal zehn Kindern erfahren die Teilnehmenden auf altersgerechte Weise Wissenswertes über Lebensweise\, Lebensraum und besondere Anpassungen dieser faszinierenden Wüstentiere. Warum wird das Dromedar auch als „Schiff der Wüste“ bezeichnet? Wie unterscheidet es sich vom Trampeltier? Welche Bedrohungen gibt es in seinem natürlichen Lebensraum? Diese und weitere Fragen beantworten erfahrene Zoopädagogen im Rahmen einer interaktiven Führung\, die auch ein Quiz für die Kinder beinhaltet. \nIm praktischen Teil begleiten die Kinder Tierpfleger beim Satteln und dürfen anschließend selbst eine Runde auf dem Dromedar reiten – jeweils zu zweit und nur bis zu einem Alter von 11 Jahren. Begleitende Geschwister oder Erwachsene können das Tier in dieser Zeit auf der Reitbahn führen. \nDie Führung dauert ca. eine Stunde und findet immer dienstags und donnerstags um 15 Uhr statt. Der Preis beträgt 170 € pro Kindergruppe (zzgl. Eintritt). \nBuchung und Beratung:Buchbar nur für Di oder Do 15 Uhr:\nTelefonisch unter 06173-325903 66\, Montag bis Freitag zwischen 13 und 14 Uhr in der Telefonsprechstunde der Zoopädagogik.
URL:https://www.taunus4family.de/veranstaltung/sommerferienprogramm-opel-zoo-copy/
LOCATION:Opel-Zoo\, Deutschland
CATEGORIES:Natur und Tiere
ATTACH;FMTTYPE=image/jpeg:https://www.taunus4family.de/wp-content/uploads/2025/07/35-2025.07.28-Dromedar-im-Opel-Zoo.jpg
ORGANIZER;CN="OPEL-ZOO%20Georg%20von%20Opel%20-%20Freigehege%20f%C3%BCr%20Tierforschung":MAILTO:info@opel-zoo.de
GEO:51.165691;10.451526
END:VEVENT
END:VCALENDAR