BEGIN:VCALENDAR
VERSION:2.0
PRODID:-//taunus4family - ECPv5.14.1//NONSGML v1.0//EN
CALSCALE:GREGORIAN
METHOD:PUBLISH
X-WR-CALNAME:taunus4family
X-ORIGINAL-URL:https://www.taunus4family.de
X-WR-CALDESC:Veranstaltungen für taunus4family
BEGIN:VTIMEZONE
TZID:Europe/Helsinki
BEGIN:DAYLIGHT
TZOFFSETFROM:+0200
TZOFFSETTO:+0300
TZNAME:EEST
DTSTART:20250330T010000
END:DAYLIGHT
BEGIN:STANDARD
TZOFFSETFROM:+0300
TZOFFSETTO:+0200
TZNAME:EET
DTSTART:20251026T010000
END:STANDARD
END:VTIMEZONE
BEGIN:VEVENT
DTSTART;VALUE=DATE:20250316
DTEND;VALUE=DATE:20251229
DTSTAMP:20260422T154922
CREATED:20250304T082402Z
LAST-MODIFIED:20250304T082921Z
UID:50390-1742083200-1766966399@www.taunus4family.de
SUMMARY:Sonderausstellung „Spielzeug. Alles nur ein Spiel?“
DESCRIPTION:Spielen verbindet – Eine Reise durch die Welt der Spiele von 1900 bis heute\nOb Groß oder Klein – Spielen begeistert uns alle! Ab dem 16. März öffnet die Stallscheune aus Asterode ihre Türen für eine besondere Ausstellung\, die Spielzeug aus über einem Jahrhundert zeigt. Vom nostalgischen Schaukelpferd bis zur modernen Spielekonsole – jedes Stück erzählt eine eigene Geschichte und spiegelt die Werte sowie den Zeitgeist seiner Epoche wider. \nTauchen Sie ein in die faszinierende Welt des Spielens und erleben Sie\, wie sich Kindheit und Freizeitgestaltung im Laufe der Jahrzehnte verändert haben. Großeltern\, Eltern und Kinder können nicht nur Erinnerungen an ihr eigenes Lieblingsspielzeug wachrufen\, sondern auch neue Entdeckungen machen. Zahlreiche Mitmach-Stationen laden dazu ein\, Spiele vergangener Zeiten selbst auszuprobieren. \nKommt vorbei und lasst Euch Euch von der Magie des Spielens verzaubern! \nAb 16. März\, täglich 11 bis 13 und 14 bis 17 Uhr
URL:https://www.taunus4family.de/veranstaltung/sonderausstellung-spielzeug-alles-nur-ein-spiel/
LOCATION:Freilichtmuseum Hessenpark GmbH\, Laubweg 5\, Neu-Anspach\, 61267\, Deutschland
CATEGORIES:Freizeit,Weiterbildung und Information
ATTACH;FMTTYPE=image/jpeg:https://www.taunus4family.de/wp-content/uploads/2025/03/Unbenannt.jpg
ORGANIZER;CN="Freilichtmuseum%20Hessenpark":MAILTO:service@hessenpark.de
GEO:50.2800386;8.5298025
X-APPLE-STRUCTURED-LOCATION;VALUE=URI;X-ADDRESS=Freilichtmuseum Hessenpark GmbH Laubweg 5 Neu-Anspach 61267 Deutschland;X-APPLE-RADIUS=500;X-TITLE=Laubweg 5:geo:8.5298025,50.2800386
END:VEVENT
END:VCALENDAR