BEGIN:VCALENDAR
VERSION:2.0
PRODID:-//taunus4family - ECPv5.14.1//NONSGML v1.0//EN
CALSCALE:GREGORIAN
METHOD:PUBLISH
X-WR-CALNAME:taunus4family
X-ORIGINAL-URL:https://www.taunus4family.de
X-WR-CALDESC:Veranstaltungen für taunus4family
BEGIN:VTIMEZONE
TZID:Europe/Helsinki
BEGIN:DAYLIGHT
TZOFFSETFROM:+0200
TZOFFSETTO:+0300
TZNAME:EEST
DTSTART:20250330T010000
END:DAYLIGHT
BEGIN:STANDARD
TZOFFSETFROM:+0300
TZOFFSETTO:+0200
TZNAME:EET
DTSTART:20251026T010000
END:STANDARD
END:VTIMEZONE
BEGIN:VEVENT
DTSTART;TZID=Europe/Helsinki:20250928T110000
DTEND;TZID=Europe/Helsinki:20251001T170000
DTSTAMP:20260423T220622
CREATED:20250918T164108Z
LAST-MODIFIED:20250918T164604Z
UID:52089-1759057200-1759338000@www.taunus4family.de
SUMMARY:Sonntagsrömer: Metall- und Holzhandwerk – ein Tag voller Aktion
DESCRIPTION:Am 28. September von 11 bis 17 Uhr lädt die Saalburg zu einer lebendigen Zeitreise 2.000 Jahre zurück ein. Die beliebten „Sonntagsrömer“ lassen römisches Handwerk wieder aufleben und bieten großen und kleinen Besucher*innen spannende Mitmachaktionen. \nWer schon immer einmal sehen wollte\, wie die Römer Holz drechselten\, ist hier genau richtig: Drechsler Bernd Keilwerth präsentiert nachgebaute Drechselbänke mit unterschiedlichen Antrieben und zeigt\, wie das Handwerk damals funktionierte. Unter Anleitung können Interessierte sogar selbst Hand anlegen. \nAuch die Arbeit mit Metall war in der Antike allgegenwärtig. Archäologin und Goldschmiedin Sayuri da Zilva demonstriert\, wie Eisen und Bronze mit einfachen Mitteln bearbeitet wurden – vom Biegen über Hämmern bis zum Schleifen. Dabei dürfen die Besucher*innen ebenfalls ausprobieren und experimentieren. \nZur Stärkung zwischendurch bietet das Museumsrestaurant „Taberna“ römische Spezialitäten sowie moderne Gerichte an. Es ist von 11 bis 18 Uhr geöffnet. \nEin Tag voller Geschichte\, Handwerk und Genuss – perfekt für Familien\, die gemeinsam in die Welt der Römer eintauchen möchten. \nFührungen für Groß und Klein\nWer noch tiefer in die Geschichte und Kultur der Römer auf der Saalburg eintauchen möchte\, kann an den öffentlichen Führungen teilnehmen. Diese starten um 11\, 13 und 15 Uhr und bieten spannende Einblicke in das Leben vor 2.000 Jahren. Die Teilnahme kostet 5 € für Erwachsene und 3 € für Kinder – jeweils zusätzlich zum regulären Eintritt – und Tickets sind direkt vor Ort erhältlich. \nFür eine entspannte Anreise empfiehlt sich die Buslinie 5 ab Bad Homburg. Im Sommerhalbjahr fährt sie in kürzeren Abständen und bringt Besucher*innen bequem bis zur Saalburg. Weitere Informationen gibt es unter rmv.de
URL:https://www.taunus4family.de/veranstaltung/sonntagsroemer-im-roemerkastell-saalburg-2/
LOCATION:Römerkastell Saalburg Archäologischer Park\, Am Römerkastell 1\, Bad Homburg\, 61350\, Deutschland
CATEGORIES:Freizeit,Kunst und Kultur
ATTACH;FMTTYPE=image/jpeg:https://www.taunus4family.de/wp-content/uploads/2024/04/Stillleben-quer-Reitermaske-c-S.-Dinges-scaled.jpg
ORGANIZER;CN="R%C3%B6merkastell%20Saalburg%20-%20Arch%C3%A4ologischer%20Park":MAILTO:info@saalburgmuseum.de
GEO:50.271747;8.5665714
X-APPLE-STRUCTURED-LOCATION;VALUE=URI;X-ADDRESS=Römerkastell Saalburg Archäologischer Park Am Römerkastell 1 Bad Homburg 61350 Deutschland;X-APPLE-RADIUS=500;X-TITLE=Am Römerkastell 1:geo:8.5665714,50.271747
END:VEVENT
END:VCALENDAR